BEGIN:VCALENDAR
VERSION:2.0
PRODID:-//https://www.uc-baltic.de///NONSGML kigkonsult.se iCalcreator 2.10.15//
METHOD:PUBLISH
BEGIN:VEVENT
UID:20260419T150041CEST-5505U0m0TG@https://www.uc-baltic.de/
DTSTAMP:20260419T130041Z
DESCRIPTION: https://www.uc-baltic.de/veranstaltungen/termine-campusbad/ere
 ignis/1903-flossenschwimmen-do-16-00-uhr
DTSTART:20260702T140000Z
DTEND:20260702T150000Z
LOCATION:Campusbad (Thomas-Fincke-Straße 19\, 24943 Flensburg)
SUMMARY:Flossenschwimmen\, Do 16:00 Uhr
URL:https://www.uc-baltic.de/veranstaltungen/termine-campusbad/ereignis/190
 3-flossenschwimmen-do-16-00-uhr
END:VEVENT
END:VCALENDAR
