BEGIN:VCALENDAR
VERSION:2.0
PRODID:-//https://www.uc-baltic.de///NONSGML kigkonsult.se iCalcreator 2.10.15//
METHOD:PUBLISH
BEGIN:VEVENT
UID:20260419T150141CEST-7988Lm8gX2@https://www.uc-baltic.de/
DTSTAMP:20260419T130141Z
DESCRIPTION: https://www.uc-baltic.de/veranstaltungen/termine-campusbad/ere
 ignis/1890-flossenschwimmen-di-19-00-20-00-uhr
DTSTART:20260616T170000Z
DTEND:20260616T180000Z
LOCATION:Campusbad (Thomas-Fincke-Straße 19\, 24943 Flensburg)
SUMMARY:Flossenschwimmen\, Di 19:00 - 20:00 Uhr
URL:https://www.uc-baltic.de/veranstaltungen/termine-campusbad/ereignis/189
 0-flossenschwimmen-di-19-00-20-00-uhr
END:VEVENT
END:VCALENDAR
