BEGIN:VCALENDAR
VERSION:2.0
PRODID:-//https://www.uc-baltic.de///NONSGML kigkonsult.se iCalcreator 2.10.15//
METHOD:PUBLISH
BEGIN:VEVENT
UID:20260419T150142CEST-63821IFsfn@https://www.uc-baltic.de/
DTSTAMP:20260419T130142Z
DESCRIPTION: https://www.uc-baltic.de/veranstaltungen/termine-campusbad/ere
 ignis/1889-flossenschwimmen-di-19-00-20-00-uhr
DTSTART:20260609T170000Z
DTEND:20260609T180000Z
LOCATION:Campusbad (Thomas-Fincke-Straße 19\, 24943 Flensburg)
SUMMARY:Flossenschwimmen\, Di 19:00 - 20:00 Uhr
URL:https://www.uc-baltic.de/veranstaltungen/termine-campusbad/ereignis/188
 9-flossenschwimmen-di-19-00-20-00-uhr
END:VEVENT
END:VCALENDAR
