BEGIN:VCALENDAR
VERSION:2.0
PRODID:-//https://www.uc-baltic.de///NONSGML kigkonsult.se iCalcreator 2.10.15//
METHOD:PUBLISH
BEGIN:VEVENT
UID:20260419T144145CEST-9250LUtOMZ@https://www.uc-baltic.de/
DTSTAMP:20260419T124145Z
DESCRIPTION: https://www.uc-baltic.de/veranstaltungen/termine-campusbad/ere
 ignis/1875-uw-rugby-mo-20-00-21-00-uhr
DTSTART:20260518T180000Z
DTEND:20260518T190000Z
LOCATION:Campusbad (Thomas-Fincke-Straße 19\, 24943 Flensburg)
SUMMARY:UW-Rugby\, Mo 20:00 - 21:00 Uhr
URL:https://www.uc-baltic.de/veranstaltungen/termine-campusbad/ereignis/187
 5-uw-rugby-mo-20-00-21-00-uhr
END:VEVENT
END:VCALENDAR
