BEGIN:VCALENDAR
VERSION:2.0
PRODID:-//https://www.uc-baltic.de///NONSGML kigkonsult.se iCalcreator 2.10.15//
METHOD:PUBLISH
BEGIN:VEVENT
UID:20260419T144233CEST-8105fZJToR@https://www.uc-baltic.de/
DTSTAMP:20260419T124233Z
DESCRIPTION: https://www.uc-baltic.de/veranstaltungen/termine-campusbad/ere
 ignis/1868-flossenschwimmen-mo-20-00-21-00-uhr
DTSTART:20260622T180000Z
DTEND:20260622T190000Z
LOCATION:Campusbad (Thomas-Fincke-Straße 19\, 24943 Flensburg)
SUMMARY:Flossenschwimmen\, Mo 20:00 - 21:00 Uhr
URL:https://www.uc-baltic.de/veranstaltungen/termine-campusbad/ereignis/186
 8-flossenschwimmen-mo-20-00-21-00-uhr
END:VEVENT
END:VCALENDAR
