BEGIN:VCALENDAR
VERSION:2.0
PRODID:-//https://www.uc-baltic.de///NONSGML kigkonsult.se iCalcreator 2.10.15//
METHOD:PUBLISH
BEGIN:VEVENT
UID:20260419T144232CEST-8093u8ckeL@https://www.uc-baltic.de/
DTSTAMP:20260419T124232Z
DESCRIPTION: https://www.uc-baltic.de/veranstaltungen/termine-campusbad/ere
 ignis/1852-flossenschwimmen-mo-19-00-20-00-unr
DTSTART:20260518T170000Z
DTEND:20260518T180000Z
LOCATION:Campusbad (Thomas-Fincke-Straße 19\, 24943 Flensburg)
SUMMARY:Flossenschwimmen\, Mo 19:00 - 20:00 Unr
URL:https://www.uc-baltic.de/veranstaltungen/termine-campusbad/ereignis/185
 2-flossenschwimmen-mo-19-00-20-00-unr
END:VEVENT
END:VCALENDAR
