BEGIN:VCALENDAR
VERSION:2.0
PRODID:-//https://www.uc-baltic.de///NONSGML kigkonsult.se iCalcreator 2.10.15//
METHOD:PUBLISH
BEGIN:VEVENT
UID:20260422T155738CEST-0613M8A1Vb@https://www.uc-baltic.de/
DTSTAMP:20260422T135738Z
DESCRIPTION: https://www.uc-baltic.de/veranstaltungen/kalender/ereignis/122
 7-flossenschwimmen-mo-19-20-uhr
DTSTART:20241216T180000Z
DTEND:20241216T190000Z
LOCATION:Campusbad (Thomas-Fincke-Straße 19\, 24943 Flensburg)
SUMMARY:Flossenschwimmen\, Mo 19 - 20 Uhr
URL:https://www.uc-baltic.de/veranstaltungen/kalender/ereignis/1227-flossen
 schwimmen-mo-19-20-uhr
END:VEVENT
BEGIN:VEVENT
UID:20260422T155738CEST-0616PamO1l@https://www.uc-baltic.de/
DTSTAMP:20260422T135738Z
DESCRIPTION: https://www.uc-baltic.de/veranstaltungen/kalender/ereignis/123
 6-flossenschwimmen-mo-20-21-uhr
DTSTART:20241216T190000Z
DTEND:20241216T200000Z
LOCATION:Campusbad (Thomas-Fincke-Straße 19\, 24943 Flensburg)
SUMMARY:Flossenschwimmen\, Mo 20 - 21 Uhr
URL:https://www.uc-baltic.de/veranstaltungen/kalender/ereignis/1236-flossen
 schwimmen-mo-20-21-uhr
END:VEVENT
BEGIN:VEVENT
UID:20260422T155738CEST-06192OlVUD@https://www.uc-baltic.de/
DTSTAMP:20260422T135738Z
DESCRIPTION: https://www.uc-baltic.de/veranstaltungen/kalender/ereignis/124
 5-uw-rugby-mo-20-21-uhr
DTSTART:20241216T190000Z
DTEND:20241216T200000Z
LOCATION:Campusbad (Thomas-Fincke-Straße 19\, 24943 Flensburg)
SUMMARY:UW-Rugby\, Mo 20 - 21 Uhr
URL:https://www.uc-baltic.de/veranstaltungen/kalender/ereignis/1245-uw-rugb
 y-mo-20-21-uhr
END:VEVENT
BEGIN:VEVENT
UID:20260422T155738CEST-06214vuumg@https://www.uc-baltic.de/
DTSTAMP:20260422T135738Z
DESCRIPTION: https://www.uc-baltic.de/veranstaltungen/kalender/ereignis/125
 4-flossenschwimmen-di-19-20-uhr
DTSTART:20241217T180000Z
DTEND:20241217T190000Z
LOCATION:Campusbad (Thomas-Fincke-Straße 19\, 24943 Flensburg)
SUMMARY:Flossenschwimmen\, Di 19 - 20 Uhr
URL:https://www.uc-baltic.de/veranstaltungen/kalender/ereignis/1254-flossen
 schwimmen-di-19-20-uhr
END:VEVENT
BEGIN:VEVENT
UID:20260422T155738CEST-0623a9eCFZ@https://www.uc-baltic.de/
DTSTAMP:20260422T135738Z
DESCRIPTION: https://www.uc-baltic.de/veranstaltungen/kalender/ereignis/127
 4-ak-hlw
DTSTART:20241221T123000Z
DTEND:20241221T163000Z
LOCATION:Unterwasserclub Baltic e.V.  (Fahrensodde 20\, 24944 Flensburg)
SUMMARY:AK HLW
URL:https://www.uc-baltic.de/veranstaltungen/kalender/ereignis/1274-ak-hlw
END:VEVENT
BEGIN:VEVENT
UID:20260422T155738CEST-0625Op7gdv@https://www.uc-baltic.de/
DTSTAMP:20260422T135738Z
DESCRIPTION: https://www.uc-baltic.de/veranstaltungen/kalender/ereignis/127
 6-dtsa-pruefung
DTSTART:20241222T090000Z
DTEND:20241222T110000Z
LOCATION:Unterwasserclub Baltic e.V.  (Fahrensodde 20\, 24944 Flensburg)
SUMMARY:DTSA* Prüfung
URL:https://www.uc-baltic.de/veranstaltungen/kalender/ereignis/1276-dtsa-pr
 uefung
END:VEVENT
END:VCALENDAR
