BEGIN:VCALENDAR
VERSION:2.0
PRODID:-//https://www.uc-baltic.de///NONSGML kigkonsult.se iCalcreator 2.10.15//
METHOD:PUBLISH
BEGIN:VEVENT
UID:20260419T192252CEST-9389rDVS9H@https://www.uc-baltic.de/
DTSTAMP:20260419T172252Z
DESCRIPTION: https://www.uc-baltic.de/veranstaltungen/kalender/ereignis/167
 9-flossenschwimmen-mo-19-20-uhr
DTSTART:20251215T180000Z
DTEND:20251215T190000Z
LOCATION:Campusbad (Thomas-Fincke-Straße 19\, 24943 Flensburg)
SUMMARY:Flossenschwimmen\, Mo 19 - 20 Uhr
URL:https://www.uc-baltic.de/veranstaltungen/kalender/ereignis/1679-flossen
 schwimmen-mo-19-20-uhr
END:VEVENT
BEGIN:VEVENT
UID:20260419T192252CEST-9393wV0Cvn@https://www.uc-baltic.de/
DTSTAMP:20260419T172252Z
DESCRIPTION: https://www.uc-baltic.de/veranstaltungen/kalender/ereignis/168
 6-flossenschwimmen-mo-20-21-uhr
DTSTART:20251215T190000Z
DTEND:20251215T200000Z
LOCATION:Campusbad (Thomas-Fincke-Straße 19\, 24943 Flensburg)
SUMMARY:Flossenschwimmen\, Mo 20 - 21 Uhr
URL:https://www.uc-baltic.de/veranstaltungen/kalender/ereignis/1686-flossen
 schwimmen-mo-20-21-uhr
END:VEVENT
BEGIN:VEVENT
UID:20260419T192252CEST-9395eAni1i@https://www.uc-baltic.de/
DTSTAMP:20260419T172252Z
DESCRIPTION: https://www.uc-baltic.de/veranstaltungen/kalender/ereignis/169
 3-uw-rugby-mo-20-21-uhr
DTSTART:20251215T190000Z
DTEND:20251215T200000Z
LOCATION:Campusbad (Thomas-Fincke-Straße 19\, 24943 Flensburg)
SUMMARY:UW-Rugby\, Mo 20 - 21 Uhr
URL:https://www.uc-baltic.de/veranstaltungen/kalender/ereignis/1693-uw-rugb
 y-mo-20-21-uhr
END:VEVENT
BEGIN:VEVENT
UID:20260419T192252CEST-9398ofRR78@https://www.uc-baltic.de/
DTSTAMP:20260419T172252Z
DESCRIPTION: https://www.uc-baltic.de/veranstaltungen/kalender/ereignis/170
 0-flossenschwimmen-di-19-20-uhr
DTSTART:20251216T180000Z
DTEND:20251216T190000Z
LOCATION:Campusbad (Thomas-Fincke-Straße 19\, 24943 Flensburg)
SUMMARY:Flossenschwimmen\, Di 19 - 20 Uhr
URL:https://www.uc-baltic.de/veranstaltungen/kalender/ereignis/1700-flossen
 schwimmen-di-19-20-uhr
END:VEVENT
BEGIN:VEVENT
UID:20260419T192252CEST-94004UOFVo@https://www.uc-baltic.de/
DTSTAMP:20260419T172252Z
DESCRIPTION: https://www.uc-baltic.de/veranstaltungen/kalender/ereignis/170
 7-flossenschwimmen-do-16-17-uhr
DTSTART:20251218T150000Z
DTEND:20251218T160000Z
LOCATION:Campusbad (Thomas-Fincke-Straße 19\, 24943 Flensburg)
SUMMARY:Flossenschwimmen\, Do 16 - 17 Uhr
URL:https://www.uc-baltic.de/veranstaltungen/kalender/ereignis/1707-flossen
 schwimmen-do-16-17-uhr
END:VEVENT
END:VCALENDAR
