BEGIN:VCALENDAR
VERSION:2.0
PRODID:-//https://www.uc-baltic.de///NONSGML kigkonsult.se iCalcreator 2.10.15//
METHOD:PUBLISH
BEGIN:VEVENT
UID:20260423T145329CEST-0724ZnuR33@https://www.uc-baltic.de/
DTSTAMP:20260423T125329Z
DESCRIPTION: https://www.uc-baltic.de/veranstaltungen/kalender/ereignis/426
 -clubabend
DTSTART:20231215T190000Z
DTEND:20231215T220000Z
LOCATION:Clubheim UC Baltic ()
SUMMARY:Clubabend
URL:https://www.uc-baltic.de/veranstaltungen/kalender/ereignis/426-clubaben
 d
END:VEVENT
END:VCALENDAR
