BEGIN:VCALENDAR
VERSION:2.0
PRODID:-//https://www.uc-baltic.de///NONSGML kigkonsult.se iCalcreator 2.10.15//
METHOD:PUBLISH
BEGIN:VEVENT
UID:20260422T155806CEST-0879U6zzZe@https://www.uc-baltic.de/
DTSTAMP:20260422T135806Z
DESCRIPTION: https://www.uc-baltic.de/veranstaltungen/kalender/ereignis/103
 4-clubabend
DTSTART:20241213T180000Z
DTEND:20241213T225900Z
LOCATION:Clubheim UC Baltic ()
SUMMARY:Clubabend
URL:https://www.uc-baltic.de/veranstaltungen/kalender/ereignis/1034-clubabe
 nd
END:VEVENT
BEGIN:VEVENT
UID:20260422T155806CEST-08821FaTzp@https://www.uc-baltic.de/
DTSTAMP:20260422T135806Z
DESCRIPTION: https://www.uc-baltic.de/veranstaltungen/kalender/ereignis/122
 6-flossenschwimmen-mo-19-20-uhr
DTSTART:20241209T180000Z
DTEND:20241209T190000Z
LOCATION:Campusbad (Thomas-Fincke-Straße 19\, 24943 Flensburg)
SUMMARY:Flossenschwimmen\, Mo 19 - 20 Uhr
URL:https://www.uc-baltic.de/veranstaltungen/kalender/ereignis/1226-flossen
 schwimmen-mo-19-20-uhr
END:VEVENT
BEGIN:VEVENT
UID:20260422T155806CEST-0884DwifWi@https://www.uc-baltic.de/
DTSTAMP:20260422T135806Z
DESCRIPTION: https://www.uc-baltic.de/veranstaltungen/kalender/ereignis/123
 5-flossenschwimmen-mo-20-21-uhr
DTSTART:20241209T190000Z
DTEND:20241209T200000Z
LOCATION:Campusbad (Thomas-Fincke-Straße 19\, 24943 Flensburg)
SUMMARY:Flossenschwimmen\, Mo 20 - 21 Uhr
URL:https://www.uc-baltic.de/veranstaltungen/kalender/ereignis/1235-flossen
 schwimmen-mo-20-21-uhr
END:VEVENT
BEGIN:VEVENT
UID:20260422T155806CEST-0886DcnSJ9@https://www.uc-baltic.de/
DTSTAMP:20260422T135806Z
DESCRIPTION: https://www.uc-baltic.de/veranstaltungen/kalender/ereignis/124
 4-uw-rugby-mo-20-21-uhr
DTSTART:20241209T190000Z
DTEND:20241209T200000Z
LOCATION:Campusbad (Thomas-Fincke-Straße 19\, 24943 Flensburg)
SUMMARY:UW-Rugby\, Mo 20 - 21 Uhr
URL:https://www.uc-baltic.de/veranstaltungen/kalender/ereignis/1244-uw-rugb
 y-mo-20-21-uhr
END:VEVENT
BEGIN:VEVENT
UID:20260422T155806CEST-0888gImZdF@https://www.uc-baltic.de/
DTSTAMP:20260422T135806Z
DESCRIPTION: https://www.uc-baltic.de/veranstaltungen/kalender/ereignis/125
 3-flossenschwimmen-di-19-20-uhr
DTSTART:20241210T180000Z
DTEND:20241210T190000Z
LOCATION:Campusbad (Thomas-Fincke-Straße 19\, 24943 Flensburg)
SUMMARY:Flossenschwimmen\, Di 19 - 20 Uhr
URL:https://www.uc-baltic.de/veranstaltungen/kalender/ereignis/1253-flossen
 schwimmen-di-19-20-uhr
END:VEVENT
BEGIN:VEVENT
UID:20260422T155806CEST-0889Gh3LSu@https://www.uc-baltic.de/
DTSTAMP:20260422T135806Z
DESCRIPTION: https://www.uc-baltic.de/veranstaltungen/kalender/ereignis/126
 1-flossenschwimmen-do-16-17-uhr
DTSTART:20241212T150000Z
DTEND:20241212T160000Z
LOCATION:Campusbad (Thomas-Fincke-Straße 19\, 24943 Flensburg)
SUMMARY:Flossenschwimmen\, Do 16 - 17 Uhr
URL:https://www.uc-baltic.de/veranstaltungen/kalender/ereignis/1261-flossen
 schwimmen-do-16-17-uhr
END:VEVENT
BEGIN:VEVENT
UID:20260422T155806CEST-0891Fuf6aJ@https://www.uc-baltic.de/
DTSTAMP:20260422T135806Z
DESCRIPTION: https://www.uc-baltic.de/veranstaltungen/kalender/ereignis/126
 8-flossenschwimmen-fr-20-21-uhr
DTSTART:20241213T190000Z
DTEND:20241213T200000Z
LOCATION:Campusbad (Thomas-Fincke-Straße 19\, 24943 Flensburg)
SUMMARY:Flossenschwimmen\, Fr 20 - 21 Uhr
URL:https://www.uc-baltic.de/veranstaltungen/kalender/ereignis/1268-flossen
 schwimmen-fr-20-21-uhr
END:VEVENT
BEGIN:VEVENT
UID:20260422T155806CEST-0892wNUdur@https://www.uc-baltic.de/
DTSTAMP:20260422T135806Z
DESCRIPTION: https://www.uc-baltic.de/veranstaltungen/kalender/ereignis/128
 8-dtsa-gdl-sports-diver
DTSTART:20241126T172500Z
DTEND:20241210T225700Z
LOCATION:Unterwasserclub Baltic e.V.  (Fahrensodde 20\, 24944 Flensburg)
SUMMARY:DTSA** / GDL** Sports Diver
URL:https://www.uc-baltic.de/veranstaltungen/kalender/ereignis/1288-dtsa-gd
 l-sports-diver
END:VEVENT
END:VCALENDAR
