BEGIN:VCALENDAR
VERSION:2.0
PRODID:-//https://www.uc-baltic.de///NONSGML kigkonsult.se iCalcreator 2.10.15//
METHOD:PUBLISH
BEGIN:VEVENT
UID:20260419T192252CEST-9610pot24U@https://www.uc-baltic.de/
DTSTAMP:20260419T172252Z
DESCRIPTION: https://www.uc-baltic.de/veranstaltungen/kalender/ereignis/131
 5-clubabend
DTSTART:20251212T180000Z
DTEND:20251212T225900Z
LOCATION:Unterwasserclub Baltic e.V.  (Fahrensodde 20\, 24944 Flensburg)
SUMMARY:Clubabend
URL:https://www.uc-baltic.de/veranstaltungen/kalender/ereignis/1315-clubabe
 nd
END:VEVENT
BEGIN:VEVENT
UID:20260419T192252CEST-9613LeT7CE@https://www.uc-baltic.de/
DTSTAMP:20260419T172252Z
DESCRIPTION: https://www.uc-baltic.de/veranstaltungen/kalender/ereignis/167
 8-flossenschwimmen-mo-19-20-uhr
DTSTART:20251208T180000Z
DTEND:20251208T190000Z
LOCATION:Campusbad (Thomas-Fincke-Straße 19\, 24943 Flensburg)
SUMMARY:Flossenschwimmen\, Mo 19 - 20 Uhr
URL:https://www.uc-baltic.de/veranstaltungen/kalender/ereignis/1678-flossen
 schwimmen-mo-19-20-uhr
END:VEVENT
BEGIN:VEVENT
UID:20260419T192252CEST-96158RFuIb@https://www.uc-baltic.de/
DTSTAMP:20260419T172252Z
DESCRIPTION: https://www.uc-baltic.de/veranstaltungen/kalender/ereignis/168
 5-flossenschwimmen-mo-20-21-uhr
DTSTART:20251208T190000Z
DTEND:20251208T200000Z
LOCATION:Campusbad (Thomas-Fincke-Straße 19\, 24943 Flensburg)
SUMMARY:Flossenschwimmen\, Mo 20 - 21 Uhr
URL:https://www.uc-baltic.de/veranstaltungen/kalender/ereignis/1685-flossen
 schwimmen-mo-20-21-uhr
END:VEVENT
BEGIN:VEVENT
UID:20260419T192252CEST-9618FuumiW@https://www.uc-baltic.de/
DTSTAMP:20260419T172252Z
DESCRIPTION: https://www.uc-baltic.de/veranstaltungen/kalender/ereignis/169
 2-uw-rugby-mo-20-21-uhr
DTSTART:20251208T190000Z
DTEND:20251208T200000Z
LOCATION:Campusbad (Thomas-Fincke-Straße 19\, 24943 Flensburg)
SUMMARY:UW-Rugby\, Mo 20 - 21 Uhr
URL:https://www.uc-baltic.de/veranstaltungen/kalender/ereignis/1692-uw-rugb
 y-mo-20-21-uhr
END:VEVENT
BEGIN:VEVENT
UID:20260419T192252CEST-9620oT4Fih@https://www.uc-baltic.de/
DTSTAMP:20260419T172252Z
DESCRIPTION: https://www.uc-baltic.de/veranstaltungen/kalender/ereignis/169
 9-flossenschwimmen-di-19-20-uhr
DTSTART:20251209T180000Z
DTEND:20251209T190000Z
LOCATION:Campusbad (Thomas-Fincke-Straße 19\, 24943 Flensburg)
SUMMARY:Flossenschwimmen\, Di 19 - 20 Uhr
URL:https://www.uc-baltic.de/veranstaltungen/kalender/ereignis/1699-flossen
 schwimmen-di-19-20-uhr
END:VEVENT
BEGIN:VEVENT
UID:20260419T192252CEST-9622wuVuiv@https://www.uc-baltic.de/
DTSTAMP:20260419T172252Z
DESCRIPTION: https://www.uc-baltic.de/veranstaltungen/kalender/ereignis/170
 6-flossenschwimmen-do-16-17-uhr
DTSTART:20251211T150000Z
DTEND:20251211T160000Z
LOCATION:Campusbad (Thomas-Fincke-Straße 19\, 24943 Flensburg)
SUMMARY:Flossenschwimmen\, Do 16 - 17 Uhr
URL:https://www.uc-baltic.de/veranstaltungen/kalender/ereignis/1706-flossen
 schwimmen-do-16-17-uhr
END:VEVENT
BEGIN:VEVENT
UID:20260419T192252CEST-9625gile5L@https://www.uc-baltic.de/
DTSTAMP:20260419T172252Z
DESCRIPTION: https://www.uc-baltic.de/veranstaltungen/kalender/ereignis/171
 3-flossenschwimmen-fr-20-21-uhr
DTSTART:20251212T190000Z
DTEND:20251212T200000Z
LOCATION:Campusbad (Thomas-Fincke-Straße 19\, 24943 Flensburg)
SUMMARY:Flossenschwimmen\, Fr 20 - 21 Uhr
URL:https://www.uc-baltic.de/veranstaltungen/kalender/ereignis/1713-flossen
 schwimmen-fr-20-21-uhr
END:VEVENT
END:VCALENDAR
