BEGIN:VCALENDAR
VERSION:2.0
PRODID:-//https://www.uc-baltic.de///NONSGML kigkonsult.se iCalcreator 2.10.15//
METHOD:PUBLISH
BEGIN:VEVENT
UID:20260423T145257CEST-6472Auwmaa@https://www.uc-baltic.de/
DTSTAMP:20260423T125257Z
DESCRIPTION: https://www.uc-baltic.de/veranstaltungen/kalender/ereignis/3-5
 0-adventsschwimmen
DTSTART:20231209T133000Z
DTEND:20231209T225500Z
LOCATION:Unterwasserclub Baltic e.V.  (Fahrensodde 20\, 24944 Flensburg)
SUMMARY:50. Adventsschwimmen
URL:https://www.uc-baltic.de/veranstaltungen/kalender/ereignis/3-50-advents
 schwimmen
END:VEVENT
END:VCALENDAR
