BEGIN:VCALENDAR
VERSION:2.0
PRODID:-//https://www.uc-baltic.de///NONSGML kigkonsult.se iCalcreator 2.10.15//
METHOD:PUBLISH
BEGIN:VEVENT
UID:20260422T155710CEST-8112l9fZW1@https://www.uc-baltic.de/
DTSTAMP:20260422T135710Z
DESCRIPTION: https://www.uc-baltic.de/veranstaltungen/kalender/ereignis/122
 5-flossenschwimmen-mo-19-20-uhr
DTSTART:20241202T180000Z
DTEND:20241202T190000Z
LOCATION:Campusbad (Thomas-Fincke-Straße 19\, 24943 Flensburg)
SUMMARY:Flossenschwimmen\, Mo 19 - 20 Uhr
URL:https://www.uc-baltic.de/veranstaltungen/kalender/ereignis/1225-flossen
 schwimmen-mo-19-20-uhr
END:VEVENT
BEGIN:VEVENT
UID:20260422T155710CEST-8116sM0FNg@https://www.uc-baltic.de/
DTSTAMP:20260422T135710Z
DESCRIPTION: https://www.uc-baltic.de/veranstaltungen/kalender/ereignis/123
 4-flossenschwimmen-mo-20-21-uhr
DTSTART:20241202T190000Z
DTEND:20241202T200000Z
LOCATION:Campusbad (Thomas-Fincke-Straße 19\, 24943 Flensburg)
SUMMARY:Flossenschwimmen\, Mo 20 - 21 Uhr
URL:https://www.uc-baltic.de/veranstaltungen/kalender/ereignis/1234-flossen
 schwimmen-mo-20-21-uhr
END:VEVENT
BEGIN:VEVENT
UID:20260422T155710CEST-8118uraNf6@https://www.uc-baltic.de/
DTSTAMP:20260422T135710Z
DESCRIPTION: https://www.uc-baltic.de/veranstaltungen/kalender/ereignis/124
 3-uw-rugby-mo-20-21-uhr
DTSTART:20241202T190000Z
DTEND:20241202T200000Z
LOCATION:Campusbad (Thomas-Fincke-Straße 19\, 24943 Flensburg)
SUMMARY:UW-Rugby\, Mo 20 - 21 Uhr
URL:https://www.uc-baltic.de/veranstaltungen/kalender/ereignis/1243-uw-rugb
 y-mo-20-21-uhr
END:VEVENT
BEGIN:VEVENT
UID:20260422T155710CEST-8121SBOsCA@https://www.uc-baltic.de/
DTSTAMP:20260422T135710Z
DESCRIPTION: https://www.uc-baltic.de/veranstaltungen/kalender/ereignis/125
 2-flossenschwimmen-di-19-20-uhr
DTSTART:20241203T180000Z
DTEND:20241203T190000Z
LOCATION:Campusbad (Thomas-Fincke-Straße 19\, 24943 Flensburg)
SUMMARY:Flossenschwimmen\, Di 19 - 20 Uhr
URL:https://www.uc-baltic.de/veranstaltungen/kalender/ereignis/1252-flossen
 schwimmen-di-19-20-uhr
END:VEVENT
BEGIN:VEVENT
UID:20260422T155710CEST-81239JKUEI@https://www.uc-baltic.de/
DTSTAMP:20260422T135710Z
DESCRIPTION: https://www.uc-baltic.de/veranstaltungen/kalender/ereignis/126
 0-flossenschwimmen-do-16-17-uhr
DTSTART:20241205T150000Z
DTEND:20241205T160000Z
LOCATION:Campusbad (Thomas-Fincke-Straße 19\, 24943 Flensburg)
SUMMARY:Flossenschwimmen\, Do 16 - 17 Uhr
URL:https://www.uc-baltic.de/veranstaltungen/kalender/ereignis/1260-flossen
 schwimmen-do-16-17-uhr
END:VEVENT
BEGIN:VEVENT
UID:20260422T155710CEST-8125iUhJCC@https://www.uc-baltic.de/
DTSTAMP:20260422T135710Z
DESCRIPTION: https://www.uc-baltic.de/veranstaltungen/kalender/ereignis/126
 7-flossenschwimmen-fr-20-21-uhr
DTSTART:20241206T190000Z
DTEND:20241206T200000Z
LOCATION:Campusbad (Thomas-Fincke-Straße 19\, 24943 Flensburg)
SUMMARY:Flossenschwimmen\, Fr 20 - 21 Uhr
URL:https://www.uc-baltic.de/veranstaltungen/kalender/ereignis/1267-flossen
 schwimmen-fr-20-21-uhr
END:VEVENT
BEGIN:VEVENT
UID:20260422T155710CEST-8127XCmWn0@https://www.uc-baltic.de/
DTSTAMP:20260422T135710Z
DESCRIPTION: https://www.uc-baltic.de/veranstaltungen/kalender/ereignis/128
 8-dtsa-gdl-sports-diver
DTSTART:20241126T172500Z
DTEND:20241210T225700Z
LOCATION:Unterwasserclub Baltic e.V.  (Fahrensodde 20\, 24944 Flensburg)
SUMMARY:DTSA** / GDL** Sports Diver
URL:https://www.uc-baltic.de/veranstaltungen/kalender/ereignis/1288-dtsa-gd
 l-sports-diver
END:VEVENT
END:VCALENDAR
