BEGIN:VCALENDAR
VERSION:2.0
PRODID:-//https://www.uc-baltic.de///NONSGML kigkonsult.se iCalcreator 2.10.15//
METHOD:PUBLISH
BEGIN:VEVENT
UID:20260419T194621CEST-6754tVX4Uk@https://www.uc-baltic.de/
DTSTAMP:20260419T174621Z
DESCRIPTION: https://www.uc-baltic.de/veranstaltungen/kalender/ereignis/167
 7-flossenschwimmen-mo-19-20-uhr
DTSTART:20251201T180000Z
DTEND:20251201T190000Z
LOCATION:Campusbad (Thomas-Fincke-Straße 19\, 24943 Flensburg)
SUMMARY:Flossenschwimmen\, Mo 19 - 20 Uhr
URL:https://www.uc-baltic.de/veranstaltungen/kalender/ereignis/1677-flossen
 schwimmen-mo-19-20-uhr
END:VEVENT
BEGIN:VEVENT
UID:20260419T194621CEST-6757BRx5n8@https://www.uc-baltic.de/
DTSTAMP:20260419T174621Z
DESCRIPTION: https://www.uc-baltic.de/veranstaltungen/kalender/ereignis/168
 4-flossenschwimmen-mo-20-21-uhr
DTSTART:20251201T190000Z
DTEND:20251201T200000Z
LOCATION:Campusbad (Thomas-Fincke-Straße 19\, 24943 Flensburg)
SUMMARY:Flossenschwimmen\, Mo 20 - 21 Uhr
URL:https://www.uc-baltic.de/veranstaltungen/kalender/ereignis/1684-flossen
 schwimmen-mo-20-21-uhr
END:VEVENT
BEGIN:VEVENT
UID:20260419T194621CEST-6760Rv7V2c@https://www.uc-baltic.de/
DTSTAMP:20260419T174621Z
DESCRIPTION: https://www.uc-baltic.de/veranstaltungen/kalender/ereignis/169
 1-uw-rugby-mo-20-21-uhr
DTSTART:20251201T190000Z
DTEND:20251201T200000Z
LOCATION:Campusbad (Thomas-Fincke-Straße 19\, 24943 Flensburg)
SUMMARY:UW-Rugby\, Mo 20 - 21 Uhr
URL:https://www.uc-baltic.de/veranstaltungen/kalender/ereignis/1691-uw-rugb
 y-mo-20-21-uhr
END:VEVENT
BEGIN:VEVENT
UID:20260419T194621CEST-6761hEhSo2@https://www.uc-baltic.de/
DTSTAMP:20260419T174621Z
DESCRIPTION: https://www.uc-baltic.de/veranstaltungen/kalender/ereignis/169
 8-flossenschwimmen-di-19-20-uhr
DTSTART:20251202T180000Z
DTEND:20251202T190000Z
LOCATION:Campusbad (Thomas-Fincke-Straße 19\, 24943 Flensburg)
SUMMARY:Flossenschwimmen\, Di 19 - 20 Uhr
URL:https://www.uc-baltic.de/veranstaltungen/kalender/ereignis/1698-flossen
 schwimmen-di-19-20-uhr
END:VEVENT
BEGIN:VEVENT
UID:20260419T194621CEST-6763S46J0z@https://www.uc-baltic.de/
DTSTAMP:20260419T174621Z
DESCRIPTION: https://www.uc-baltic.de/veranstaltungen/kalender/ereignis/170
 5-flossenschwimmen-do-16-17-uhr
DTSTART:20251204T150000Z
DTEND:20251204T160000Z
LOCATION:Campusbad (Thomas-Fincke-Straße 19\, 24943 Flensburg)
SUMMARY:Flossenschwimmen\, Do 16 - 17 Uhr
URL:https://www.uc-baltic.de/veranstaltungen/kalender/ereignis/1705-flossen
 schwimmen-do-16-17-uhr
END:VEVENT
BEGIN:VEVENT
UID:20260419T194621CEST-6765GURnHk@https://www.uc-baltic.de/
DTSTAMP:20260419T174621Z
DESCRIPTION: https://www.uc-baltic.de/veranstaltungen/kalender/ereignis/171
 2-flossenschwimmen-fr-20-21-uhr
DTSTART:20251205T190000Z
DTEND:20251205T200000Z
LOCATION:Campusbad (Thomas-Fincke-Straße 19\, 24943 Flensburg)
SUMMARY:Flossenschwimmen\, Fr 20 - 21 Uhr
URL:https://www.uc-baltic.de/veranstaltungen/kalender/ereignis/1712-flossen
 schwimmen-fr-20-21-uhr
END:VEVENT
END:VCALENDAR
