BEGIN:VCALENDAR
VERSION:2.0
PRODID:-//https://www.uc-baltic.de///NONSGML kigkonsult.se iCalcreator 2.10.15//
METHOD:PUBLISH
BEGIN:VEVENT
UID:20260423T145329CEST-2073DMbtwK@https://www.uc-baltic.de/
DTSTAMP:20260423T125329Z
DESCRIPTION: https://www.uc-baltic.de/veranstaltungen/kalender/ereignis/427
 -clubabend
DTSTART:20231201T190000Z
DTEND:20231201T220000Z
LOCATION:Clubheim UC Baltic ()
SUMMARY:Clubabend
URL:https://www.uc-baltic.de/veranstaltungen/kalender/ereignis/427-clubaben
 d
END:VEVENT
BEGIN:VEVENT
UID:20260423T145329CEST-2076oj0iJc@https://www.uc-baltic.de/
DTSTAMP:20260423T125329Z
DESCRIPTION:Im Rahmen der Tauchausbildung im UC Baltic bieten wir einen Auf
 baukurs Herz-Lungen- Wiederbelebung (AK HLW) / GDL CPR (Cardiopulmonary Re
 suscitation) an. Im AK HLW werdet ihr die wichtigsten Sofortmaßnahmen zur 
 Wiederherstellung von Atmung und Kreislauf in Notfällen erlernen. Wir gehe
 n auch auf die Besonderheiten der Rettungskette bei Tauchunfällen und die 
 Verwendung von Sauerstoffsystemen und Automatischen Externen Defibrillator
 en (AED) ein. Das AK HLW dient zur Auffrischung vorhandener Kenntnisse und
  ist Voraussetzung für DTSA**. https://www.uc-baltic.de/veranstaltungen/ka
 lender/ereignis/842-ak-hlw
DTSTART:20231202T130000Z
DTEND:20231202T170000Z
LOCATION:Clubheim UC Baltic ()
SUMMARY:AK HLW
URL:https://www.uc-baltic.de/veranstaltungen/kalender/ereignis/842-ak-hlw
END:VEVENT
BEGIN:VEVENT
UID:20260423T145329CEST-2079CuuMSx@https://www.uc-baltic.de/
DTSTAMP:20260423T125329Z
DESCRIPTION:DTSA* Theorieprüfung https://www.uc-baltic.de/veranstaltungen/k
 alender/ereignis/847-dtsa-theoriepruefung
DTSTART:20231203T090000Z
DTEND:20231203T110000Z
LOCATION: ()
SUMMARY:DTSA* Theorieprüfung
URL:https://www.uc-baltic.de/veranstaltungen/kalender/ereignis/847-dtsa-the
 oriepruefung
END:VEVENT
END:VCALENDAR
