BEGIN:VCALENDAR
VERSION:2.0
PRODID:-//https://www.uc-baltic.de///NONSGML kigkonsult.se iCalcreator 2.10.15//
METHOD:PUBLISH
BEGIN:VEVENT
UID:20260419T212131CEST-4886ADohV1@https://www.uc-baltic.de/
DTSTAMP:20260419T192131Z
DESCRIPTION: https://www.uc-baltic.de/veranstaltungen/kalender/ereignis/131
 4-clubabend
DTSTART:20251128T180000Z
DTEND:20251128T225900Z
LOCATION:Unterwasserclub Baltic e.V.  (Fahrensodde 20\, 24944 Flensburg)
SUMMARY:Clubabend
URL:https://www.uc-baltic.de/veranstaltungen/kalender/ereignis/1314-clubabe
 nd
END:VEVENT
BEGIN:VEVENT
UID:20260419T212131CEST-4889zCXe9l@https://www.uc-baltic.de/
DTSTAMP:20260419T192131Z
DESCRIPTION: https://www.uc-baltic.de/veranstaltungen/kalender/ereignis/167
 6-flossenschwimmen-mo-19-20-uhr
DTSTART:20251124T180000Z
DTEND:20251124T190000Z
LOCATION:Campusbad (Thomas-Fincke-Straße 19\, 24943 Flensburg)
SUMMARY:Flossenschwimmen\, Mo 19 - 20 Uhr
URL:https://www.uc-baltic.de/veranstaltungen/kalender/ereignis/1676-flossen
 schwimmen-mo-19-20-uhr
END:VEVENT
BEGIN:VEVENT
UID:20260419T212131CEST-4891tUCTTI@https://www.uc-baltic.de/
DTSTAMP:20260419T192131Z
DESCRIPTION: https://www.uc-baltic.de/veranstaltungen/kalender/ereignis/168
 3-flossenschwimmen-mo-20-21-uhr
DTSTART:20251124T190000Z
DTEND:20251124T200000Z
LOCATION:Campusbad (Thomas-Fincke-Straße 19\, 24943 Flensburg)
SUMMARY:Flossenschwimmen\, Mo 20 - 21 Uhr
URL:https://www.uc-baltic.de/veranstaltungen/kalender/ereignis/1683-flossen
 schwimmen-mo-20-21-uhr
END:VEVENT
BEGIN:VEVENT
UID:20260419T212131CEST-4892kV8v7m@https://www.uc-baltic.de/
DTSTAMP:20260419T192131Z
DESCRIPTION: https://www.uc-baltic.de/veranstaltungen/kalender/ereignis/169
 0-uw-rugby-mo-20-21-uhr
DTSTART:20251124T190000Z
DTEND:20251124T200000Z
LOCATION:Campusbad (Thomas-Fincke-Straße 19\, 24943 Flensburg)
SUMMARY:UW-Rugby\, Mo 20 - 21 Uhr
URL:https://www.uc-baltic.de/veranstaltungen/kalender/ereignis/1690-uw-rugb
 y-mo-20-21-uhr
END:VEVENT
BEGIN:VEVENT
UID:20260419T212131CEST-4894uhlUEV@https://www.uc-baltic.de/
DTSTAMP:20260419T192131Z
DESCRIPTION: https://www.uc-baltic.de/veranstaltungen/kalender/ereignis/169
 7-flossenschwimmen-di-19-20-uhr
DTSTART:20251125T180000Z
DTEND:20251125T190000Z
LOCATION:Campusbad (Thomas-Fincke-Straße 19\, 24943 Flensburg)
SUMMARY:Flossenschwimmen\, Di 19 - 20 Uhr
URL:https://www.uc-baltic.de/veranstaltungen/kalender/ereignis/1697-flossen
 schwimmen-di-19-20-uhr
END:VEVENT
BEGIN:VEVENT
UID:20260419T212131CEST-4896sEIRLC@https://www.uc-baltic.de/
DTSTAMP:20260419T192131Z
DESCRIPTION: https://www.uc-baltic.de/veranstaltungen/kalender/ereignis/170
 4-flossenschwimmen-do-16-17-uhr
DTSTART:20251127T150000Z
DTEND:20251127T160000Z
LOCATION:Campusbad (Thomas-Fincke-Straße 19\, 24943 Flensburg)
SUMMARY:Flossenschwimmen\, Do 16 - 17 Uhr
URL:https://www.uc-baltic.de/veranstaltungen/kalender/ereignis/1704-flossen
 schwimmen-do-16-17-uhr
END:VEVENT
BEGIN:VEVENT
UID:20260419T212131CEST-4897uZfsht@https://www.uc-baltic.de/
DTSTAMP:20260419T192131Z
DESCRIPTION: https://www.uc-baltic.de/veranstaltungen/kalender/ereignis/171
 1-flossenschwimmen-fr-20-21-uhr
DTSTART:20251128T190000Z
DTEND:20251128T200000Z
LOCATION:Campusbad (Thomas-Fincke-Straße 19\, 24943 Flensburg)
SUMMARY:Flossenschwimmen\, Fr 20 - 21 Uhr
URL:https://www.uc-baltic.de/veranstaltungen/kalender/ereignis/1711-flossen
 schwimmen-fr-20-21-uhr
END:VEVENT
END:VCALENDAR
