BEGIN:VCALENDAR
VERSION:2.0
PRODID:-//https://www.uc-baltic.de///NONSGML kigkonsult.se iCalcreator 2.10.15//
METHOD:PUBLISH
BEGIN:VEVENT
UID:20260423T162141CEST-4739suwHmB@https://www.uc-baltic.de/
DTSTAMP:20260423T142141Z
DESCRIPTION:DTSA* Theorie für Tauchschüler https://www.uc-baltic.de/veranst
 altungen/kalender/ereignis/845-dtsa-theorie
DTSTART:20231125T120000Z
DTEND:20231125T170000Z
LOCATION: ()
SUMMARY:DTSA* Theorie
URL:https://www.uc-baltic.de/veranstaltungen/kalender/ereignis/845-dtsa-the
 orie
END:VEVENT
BEGIN:VEVENT
UID:20260423T162141CEST-4742z0ejuT@https://www.uc-baltic.de/
DTSTAMP:20260423T142141Z
DESCRIPTION:DTSA* Theorie für Tauchschüler https://www.uc-baltic.de/veranst
 altungen/kalender/ereignis/846-dtsa-theorie
DTSTART:20231126T130000Z
DTEND:20231126T190000Z
LOCATION: ()
SUMMARY:DTSA* Theorie
URL:https://www.uc-baltic.de/veranstaltungen/kalender/ereignis/846-dtsa-the
 orie
END:VEVENT
END:VCALENDAR
