BEGIN:VCALENDAR
VERSION:2.0
PRODID:-//https://www.uc-baltic.de///NONSGML kigkonsult.se iCalcreator 2.10.15//
METHOD:PUBLISH
BEGIN:VEVENT
UID:20260422T174537CEST-8249bzAMKC@https://www.uc-baltic.de/
DTSTAMP:20260422T154537Z
DESCRIPTION: https://www.uc-baltic.de/veranstaltungen/kalender/ereignis/122
 3-flossenschwimmen-mo-19-20-uhr
DTSTART:20241118T180000Z
DTEND:20241118T190000Z
LOCATION:Campusbad (Thomas-Fincke-Straße 19\, 24943 Flensburg)
SUMMARY:Flossenschwimmen\, Mo 19 - 20 Uhr
URL:https://www.uc-baltic.de/veranstaltungen/kalender/ereignis/1223-flossen
 schwimmen-mo-19-20-uhr
END:VEVENT
BEGIN:VEVENT
UID:20260422T174537CEST-82558r1nUw@https://www.uc-baltic.de/
DTSTAMP:20260422T154537Z
DESCRIPTION: https://www.uc-baltic.de/veranstaltungen/kalender/ereignis/123
 2-flossenschwimmen-mo-20-21-uhr
DTSTART:20241118T190000Z
DTEND:20241118T200000Z
LOCATION:Campusbad (Thomas-Fincke-Straße 19\, 24943 Flensburg)
SUMMARY:Flossenschwimmen\, Mo 20 - 21 Uhr
URL:https://www.uc-baltic.de/veranstaltungen/kalender/ereignis/1232-flossen
 schwimmen-mo-20-21-uhr
END:VEVENT
BEGIN:VEVENT
UID:20260422T174537CEST-8256UbF2bi@https://www.uc-baltic.de/
DTSTAMP:20260422T154537Z
DESCRIPTION: https://www.uc-baltic.de/veranstaltungen/kalender/ereignis/124
 1-uw-rugby-mo-20-21-uhr
DTSTART:20241118T190000Z
DTEND:20241118T200000Z
LOCATION:Campusbad (Thomas-Fincke-Straße 19\, 24943 Flensburg)
SUMMARY:UW-Rugby\, Mo 20 - 21 Uhr
URL:https://www.uc-baltic.de/veranstaltungen/kalender/ereignis/1241-uw-rugb
 y-mo-20-21-uhr
END:VEVENT
BEGIN:VEVENT
UID:20260422T174537CEST-8258fi8El4@https://www.uc-baltic.de/
DTSTAMP:20260422T154537Z
DESCRIPTION: https://www.uc-baltic.de/veranstaltungen/kalender/ereignis/125
 0-flossenschwimmen-di-19-20-uhr
DTSTART:20241119T180000Z
DTEND:20241119T190000Z
LOCATION:Campusbad (Thomas-Fincke-Straße 19\, 24943 Flensburg)
SUMMARY:Flossenschwimmen\, Di 19 - 20 Uhr
URL:https://www.uc-baltic.de/veranstaltungen/kalender/ereignis/1250-flossen
 schwimmen-di-19-20-uhr
END:VEVENT
BEGIN:VEVENT
UID:20260422T174537CEST-8260VCxe4R@https://www.uc-baltic.de/
DTSTAMP:20260422T154537Z
DESCRIPTION: https://www.uc-baltic.de/veranstaltungen/kalender/ereignis/125
 8-flossenschwimmen-do-16-17-uhr
DTSTART:20241121T150000Z
DTEND:20241121T160000Z
LOCATION:Campusbad (Thomas-Fincke-Straße 19\, 24943 Flensburg)
SUMMARY:Flossenschwimmen\, Do 16 - 17 Uhr
URL:https://www.uc-baltic.de/veranstaltungen/kalender/ereignis/1258-flossen
 schwimmen-do-16-17-uhr
END:VEVENT
BEGIN:VEVENT
UID:20260422T174537CEST-8261pz0wXV@https://www.uc-baltic.de/
DTSTAMP:20260422T154537Z
DESCRIPTION: https://www.uc-baltic.de/veranstaltungen/kalender/ereignis/126
 5-flossenschwimmen-fr-20-21-uhr
DTSTART:20241122T190000Z
DTEND:20241122T200000Z
LOCATION:Campusbad (Thomas-Fincke-Straße 19\, 24943 Flensburg)
SUMMARY:Flossenschwimmen\, Fr 20 - 21 Uhr
URL:https://www.uc-baltic.de/veranstaltungen/kalender/ereignis/1265-flossen
 schwimmen-fr-20-21-uhr
END:VEVENT
END:VCALENDAR
