BEGIN:VCALENDAR
VERSION:2.0
PRODID:-//https://www.uc-baltic.de///NONSGML kigkonsult.se iCalcreator 2.10.15//
METHOD:PUBLISH
BEGIN:VEVENT
UID:20260419T212130CEST-9972ta5Uul@https://www.uc-baltic.de/
DTSTAMP:20260419T192130Z
DESCRIPTION:Es ist wieder die Zeit im Jahr wo es finster und gruselig wird.
  Und sicher habt ihr alle schon auf diese Ankündigung gewartet.Das allmähl
 ich zur Tradition gewordene Grusel-Tauchen steht wieder an. Wer sich recht
 zeitig bis zum 16.11.25 über unsere Homepage anmeldet nimmt an einer spann
 enden 'Rettungsaktion' Teil um einen Taucher vor dem Angriff der Zombie-Ha
 ie zu retten. Natürlich gibt's auch wieder Gutes von Grill\, spannende Pre
 ise und nette Gesellschaft. Wie immer können Taucher aller Brevetierungsst
 ufen teilnehmen. Die Buddyteams werden von uns zusammengestellt Also...dab
 ei sein ist alles...jetzt schnell anmelden und gemeinsam die Zombie-Hai-Ap
 okalypse überleben. Euer UC-Baltic Event-TeamBeginn der Veranstaltung: 16U
 hrPS: Da es dunkel wird Tauchlampe nicht vergessen. 😉 https://www.uc-balti
 c.de/veranstaltungen/kalender/ereignis/1410-halloween-tauchen
DTSTART;VALUE=DATE:20251122
LOCATION:Unterwasserclub Baltic e.V.  (Fahrensodde 20\, 24944 Flensburg)
SUMMARY:Halloween-Tauchen
URL:https://www.uc-baltic.de/veranstaltungen/kalender/ereignis/1410-hallowe
 en-tauchen
END:VEVENT
BEGIN:VEVENT
UID:20260419T212130CEST-9976MifcVU@https://www.uc-baltic.de/
DTSTAMP:20260419T192130Z
DESCRIPTION: https://www.uc-baltic.de/veranstaltungen/kalender/ereignis/167
 5-flossenschwimmen-mo-19-20-uhr
DTSTART:20251117T180000Z
DTEND:20251117T190000Z
LOCATION:Campusbad (Thomas-Fincke-Straße 19\, 24943 Flensburg)
SUMMARY:Flossenschwimmen\, Mo 19 - 20 Uhr
URL:https://www.uc-baltic.de/veranstaltungen/kalender/ereignis/1675-flossen
 schwimmen-mo-19-20-uhr
END:VEVENT
BEGIN:VEVENT
UID:20260419T212130CEST-9978vtWMNc@https://www.uc-baltic.de/
DTSTAMP:20260419T192130Z
DESCRIPTION: https://www.uc-baltic.de/veranstaltungen/kalender/ereignis/168
 2-flossenschwimmen-mo-20-21-uhr
DTSTART:20251117T190000Z
DTEND:20251117T200000Z
LOCATION:Campusbad (Thomas-Fincke-Straße 19\, 24943 Flensburg)
SUMMARY:Flossenschwimmen\, Mo 20 - 21 Uhr
URL:https://www.uc-baltic.de/veranstaltungen/kalender/ereignis/1682-flossen
 schwimmen-mo-20-21-uhr
END:VEVENT
BEGIN:VEVENT
UID:20260419T212130CEST-9980sMbTlo@https://www.uc-baltic.de/
DTSTAMP:20260419T192130Z
DESCRIPTION: https://www.uc-baltic.de/veranstaltungen/kalender/ereignis/168
 9-uw-rugby-mo-20-21-uhr
DTSTART:20251117T190000Z
DTEND:20251117T200000Z
LOCATION:Campusbad (Thomas-Fincke-Straße 19\, 24943 Flensburg)
SUMMARY:UW-Rugby\, Mo 20 - 21 Uhr
URL:https://www.uc-baltic.de/veranstaltungen/kalender/ereignis/1689-uw-rugb
 y-mo-20-21-uhr
END:VEVENT
BEGIN:VEVENT
UID:20260419T212130CEST-9982lXftja@https://www.uc-baltic.de/
DTSTAMP:20260419T192130Z
DESCRIPTION: https://www.uc-baltic.de/veranstaltungen/kalender/ereignis/169
 6-flossenschwimmen-di-19-20-uhr
DTSTART:20251118T180000Z
DTEND:20251118T190000Z
LOCATION:Campusbad (Thomas-Fincke-Straße 19\, 24943 Flensburg)
SUMMARY:Flossenschwimmen\, Di 19 - 20 Uhr
URL:https://www.uc-baltic.de/veranstaltungen/kalender/ereignis/1696-flossen
 schwimmen-di-19-20-uhr
END:VEVENT
BEGIN:VEVENT
UID:20260419T212130CEST-9983kbmWJp@https://www.uc-baltic.de/
DTSTAMP:20260419T192130Z
DESCRIPTION: https://www.uc-baltic.de/veranstaltungen/kalender/ereignis/170
 3-flossenschwimmen-do-16-17-uhr
DTSTART:20251120T150000Z
DTEND:20251120T160000Z
LOCATION:Campusbad (Thomas-Fincke-Straße 19\, 24943 Flensburg)
SUMMARY:Flossenschwimmen\, Do 16 - 17 Uhr
URL:https://www.uc-baltic.de/veranstaltungen/kalender/ereignis/1703-flossen
 schwimmen-do-16-17-uhr
END:VEVENT
BEGIN:VEVENT
UID:20260419T212130CEST-9985pFX4U2@https://www.uc-baltic.de/
DTSTAMP:20260419T192130Z
DESCRIPTION: https://www.uc-baltic.de/veranstaltungen/kalender/ereignis/171
 0-flossenschwimmen-fr-20-21-uhr
DTSTART:20251121T190000Z
DTEND:20251121T200000Z
LOCATION:Campusbad (Thomas-Fincke-Straße 19\, 24943 Flensburg)
SUMMARY:Flossenschwimmen\, Fr 20 - 21 Uhr
URL:https://www.uc-baltic.de/veranstaltungen/kalender/ereignis/1710-flossen
 schwimmen-fr-20-21-uhr
END:VEVENT
END:VCALENDAR
