BEGIN:VCALENDAR
VERSION:2.0
PRODID:-//https://www.uc-baltic.de///NONSGML kigkonsult.se iCalcreator 2.10.15//
METHOD:PUBLISH
BEGIN:VEVENT
UID:20260423T162141CEST-47279VgjEv@https://www.uc-baltic.de/
DTSTAMP:20260423T142141Z
DESCRIPTION: https://www.uc-baltic.de/veranstaltungen/kalender/ereignis/428
 -clubabend
DTSTART:20231117T190000Z
DTEND:20231117T220000Z
LOCATION:Clubheim UC Baltic ()
SUMMARY:Clubabend
URL:https://www.uc-baltic.de/veranstaltungen/kalender/ereignis/428-clubaben
 d
END:VEVENT
END:VCALENDAR
