BEGIN:VCALENDAR
VERSION:2.0
PRODID:-//https://www.uc-baltic.de///NONSGML kigkonsult.se iCalcreator 2.10.15//
METHOD:PUBLISH
BEGIN:VEVENT
UID:20260422T181332CEST-1181CIZWpP@https://www.uc-baltic.de/
DTSTAMP:20260422T161332Z
DESCRIPTION: https://www.uc-baltic.de/veranstaltungen/kalender/ereignis/103
 0-clubabend
DTSTART:20241115T180000Z
DTEND:20241115T225900Z
LOCATION:Clubheim UC Baltic ()
SUMMARY:Clubabend
URL:https://www.uc-baltic.de/veranstaltungen/kalender/ereignis/1030-clubabe
 nd
END:VEVENT
BEGIN:VEVENT
UID:20260422T181332CEST-1184xusEF8@https://www.uc-baltic.de/
DTSTAMP:20260422T161332Z
DESCRIPTION: https://www.uc-baltic.de/veranstaltungen/kalender/ereignis/122
 2-flossenschwimmen-mo-19-20-uhr
DTSTART:20241111T180000Z
DTEND:20241111T190000Z
LOCATION:Campusbad (Thomas-Fincke-Straße 19\, 24943 Flensburg)
SUMMARY:Flossenschwimmen\, Mo 19 - 20 Uhr
URL:https://www.uc-baltic.de/veranstaltungen/kalender/ereignis/1222-flossen
 schwimmen-mo-19-20-uhr
END:VEVENT
BEGIN:VEVENT
UID:20260422T181332CEST-1185hUg9r0@https://www.uc-baltic.de/
DTSTAMP:20260422T161332Z
DESCRIPTION: https://www.uc-baltic.de/veranstaltungen/kalender/ereignis/123
 1-flossenschwimmen-mo-20-21-uhr
DTSTART:20241111T190000Z
DTEND:20241111T200000Z
LOCATION:Campusbad (Thomas-Fincke-Straße 19\, 24943 Flensburg)
SUMMARY:Flossenschwimmen\, Mo 20 - 21 Uhr
URL:https://www.uc-baltic.de/veranstaltungen/kalender/ereignis/1231-flossen
 schwimmen-mo-20-21-uhr
END:VEVENT
BEGIN:VEVENT
UID:20260422T181332CEST-1187aVOPPS@https://www.uc-baltic.de/
DTSTAMP:20260422T161332Z
DESCRIPTION: https://www.uc-baltic.de/veranstaltungen/kalender/ereignis/124
 0-uw-rugby-mo-20-21-uhr
DTSTART:20241111T190000Z
DTEND:20241111T200000Z
LOCATION:Campusbad (Thomas-Fincke-Straße 19\, 24943 Flensburg)
SUMMARY:UW-Rugby\, Mo 20 - 21 Uhr
URL:https://www.uc-baltic.de/veranstaltungen/kalender/ereignis/1240-uw-rugb
 y-mo-20-21-uhr
END:VEVENT
BEGIN:VEVENT
UID:20260422T181332CEST-11895Ius2A@https://www.uc-baltic.de/
DTSTAMP:20260422T161332Z
DESCRIPTION: https://www.uc-baltic.de/veranstaltungen/kalender/ereignis/124
 9-flossenschwimmen-di-19-20-uhr
DTSTART:20241112T180000Z
DTEND:20241112T190000Z
LOCATION:Campusbad (Thomas-Fincke-Straße 19\, 24943 Flensburg)
SUMMARY:Flossenschwimmen\, Di 19 - 20 Uhr
URL:https://www.uc-baltic.de/veranstaltungen/kalender/ereignis/1249-flossen
 schwimmen-di-19-20-uhr
END:VEVENT
BEGIN:VEVENT
UID:20260422T181332CEST-1191UbovTX@https://www.uc-baltic.de/
DTSTAMP:20260422T161332Z
DESCRIPTION: https://www.uc-baltic.de/veranstaltungen/kalender/ereignis/125
 7-flossenschwimmen-do-16-17-uhr
DTSTART:20241114T150000Z
DTEND:20241114T160000Z
LOCATION:Campusbad (Thomas-Fincke-Straße 19\, 24943 Flensburg)
SUMMARY:Flossenschwimmen\, Do 16 - 17 Uhr
URL:https://www.uc-baltic.de/veranstaltungen/kalender/ereignis/1257-flossen
 schwimmen-do-16-17-uhr
END:VEVENT
BEGIN:VEVENT
UID:20260422T181332CEST-1192B619Uk@https://www.uc-baltic.de/
DTSTAMP:20260422T161332Z
DESCRIPTION: https://www.uc-baltic.de/veranstaltungen/kalender/ereignis/126
 4-flossenschwimmen-fr-20-21-uhr
DTSTART:20241115T190000Z
DTEND:20241115T200000Z
LOCATION:Campusbad (Thomas-Fincke-Straße 19\, 24943 Flensburg)
SUMMARY:Flossenschwimmen\, Fr 20 - 21 Uhr
URL:https://www.uc-baltic.de/veranstaltungen/kalender/ereignis/1264-flossen
 schwimmen-fr-20-21-uhr
END:VEVENT
BEGIN:VEVENT
UID:20260422T181332CEST-1194fnU7wX@https://www.uc-baltic.de/
DTSTAMP:20260422T161332Z
DESCRIPTION: https://www.uc-baltic.de/veranstaltungen/kalender/ereignis/128
 0-abfrage-interesse-tauchausbildung-dtsa-dtsa-trainer-c-tauchlehrer-oder-s
 pezialkurse
DTSTART:20241101T000000Z
DTEND:20241115T224900Z
LOCATION:Unterwasserclub Baltic e.V.  (Fahrensodde 20\, 24944 Flensburg)
SUMMARY:Abfrage Interesse Tauchausbildung DTSA**\, DTSA***\, Trainer C\, Ta
 uchlehrer oder Spezialkurse
URL:https://www.uc-baltic.de/veranstaltungen/kalender/ereignis/1280-abfrage
 -interesse-tauchausbildung-dtsa-dtsa-trainer-c-tauchlehrer-oder-spezialkur
 se
END:VEVENT
END:VCALENDAR
