BEGIN:VCALENDAR
VERSION:2.0
PRODID:-//https://www.uc-baltic.de///NONSGML kigkonsult.se iCalcreator 2.10.15//
METHOD:PUBLISH
BEGIN:VEVENT
UID:20260419T212132CEST-01394Pk2Vc@https://www.uc-baltic.de/
DTSTAMP:20260419T192132Z
DESCRIPTION: https://www.uc-baltic.de/veranstaltungen/kalender/ereignis/131
 3-clubabend
DTSTART:20251114T180000Z
DTEND:20251114T225900Z
LOCATION:Unterwasserclub Baltic e.V.  (Fahrensodde 20\, 24944 Flensburg)
SUMMARY:Clubabend
URL:https://www.uc-baltic.de/veranstaltungen/kalender/ereignis/1313-clubabe
 nd
END:VEVENT
BEGIN:VEVENT
UID:20260419T212132CEST-0142eMLgmG@https://www.uc-baltic.de/
DTSTAMP:20260419T192132Z
DESCRIPTION: https://www.uc-baltic.de/veranstaltungen/kalender/ereignis/167
 4-flossenschwimmen-mo-19-20-uhr
DTSTART:20251110T180000Z
DTEND:20251110T190000Z
LOCATION:Campusbad (Thomas-Fincke-Straße 19\, 24943 Flensburg)
SUMMARY:Flossenschwimmen\, Mo 19 - 20 Uhr
URL:https://www.uc-baltic.de/veranstaltungen/kalender/ereignis/1674-flossen
 schwimmen-mo-19-20-uhr
END:VEVENT
BEGIN:VEVENT
UID:20260419T212132CEST-0144ruLDDZ@https://www.uc-baltic.de/
DTSTAMP:20260419T192132Z
DESCRIPTION: https://www.uc-baltic.de/veranstaltungen/kalender/ereignis/168
 1-flossenschwimmen-mo-20-21-uhr
DTSTART:20251110T190000Z
DTEND:20251110T200000Z
LOCATION:Campusbad (Thomas-Fincke-Straße 19\, 24943 Flensburg)
SUMMARY:Flossenschwimmen\, Mo 20 - 21 Uhr
URL:https://www.uc-baltic.de/veranstaltungen/kalender/ereignis/1681-flossen
 schwimmen-mo-20-21-uhr
END:VEVENT
BEGIN:VEVENT
UID:20260419T212132CEST-0145zKGPcv@https://www.uc-baltic.de/
DTSTAMP:20260419T192132Z
DESCRIPTION: https://www.uc-baltic.de/veranstaltungen/kalender/ereignis/168
 8-uw-rugby-mo-20-21-uhr
DTSTART:20251110T190000Z
DTEND:20251110T200000Z
LOCATION:Campusbad (Thomas-Fincke-Straße 19\, 24943 Flensburg)
SUMMARY:UW-Rugby\, Mo 20 - 21 Uhr
URL:https://www.uc-baltic.de/veranstaltungen/kalender/ereignis/1688-uw-rugb
 y-mo-20-21-uhr
END:VEVENT
BEGIN:VEVENT
UID:20260419T212132CEST-01471wJueG@https://www.uc-baltic.de/
DTSTAMP:20260419T192132Z
DESCRIPTION: https://www.uc-baltic.de/veranstaltungen/kalender/ereignis/169
 5-flossenschwimmen-di-19-20-uhr
DTSTART:20251111T180000Z
DTEND:20251111T190000Z
LOCATION:Campusbad (Thomas-Fincke-Straße 19\, 24943 Flensburg)
SUMMARY:Flossenschwimmen\, Di 19 - 20 Uhr
URL:https://www.uc-baltic.de/veranstaltungen/kalender/ereignis/1695-flossen
 schwimmen-di-19-20-uhr
END:VEVENT
BEGIN:VEVENT
UID:20260419T212132CEST-0149IBV2sg@https://www.uc-baltic.de/
DTSTAMP:20260419T192132Z
DESCRIPTION: https://www.uc-baltic.de/veranstaltungen/kalender/ereignis/170
 2-flossenschwimmen-do-16-17-uhr
DTSTART:20251113T150000Z
DTEND:20251113T160000Z
LOCATION:Campusbad (Thomas-Fincke-Straße 19\, 24943 Flensburg)
SUMMARY:Flossenschwimmen\, Do 16 - 17 Uhr
URL:https://www.uc-baltic.de/veranstaltungen/kalender/ereignis/1702-flossen
 schwimmen-do-16-17-uhr
END:VEVENT
BEGIN:VEVENT
UID:20260419T212132CEST-0150W3UU4F@https://www.uc-baltic.de/
DTSTAMP:20260419T192132Z
DESCRIPTION: https://www.uc-baltic.de/veranstaltungen/kalender/ereignis/170
 9-flossenschwimmen-fr-20-21-uhr
DTSTART:20251114T190000Z
DTEND:20251114T200000Z
LOCATION:Campusbad (Thomas-Fincke-Straße 19\, 24943 Flensburg)
SUMMARY:Flossenschwimmen\, Fr 20 - 21 Uhr
URL:https://www.uc-baltic.de/veranstaltungen/kalender/ereignis/1709-flossen
 schwimmen-fr-20-21-uhr
END:VEVENT
END:VCALENDAR
