BEGIN:VCALENDAR
VERSION:2.0
PRODID:-//https://www.uc-baltic.de///NONSGML kigkonsult.se iCalcreator 2.10.15//
METHOD:PUBLISH
BEGIN:VEVENT
UID:20260423T163623CEST-7297EjuCVe@https://www.uc-baltic.de/
DTSTAMP:20260423T143623Z
DESCRIPTION:Geplant ist eine Unterwasser-Schnitzeljagd. Dazu werden im Vorf
 eld einige Lose in unserer hauseigenen Unterwasserwelt ausgebracht. Um die
  Suche nicht zu schwierig zu gestalten\, werden sich die Lose in der Nähe 
 unserer „Attraktionen“ befinden. Daher\, sind lange Tauchzeiten nicht unbe
 dingt nötigt\, wodurch auch Nasstaucher teilnehmen und sich hinterher mit 
 einer warmen Dusche belohnen können. Wer aktuell keinen Buddy hat\, kann s
 ich natürlich trotzdem gern anmelden\, passende Buddyteams werden dann vor
  Ort gebildet.\nIm Idealfall gibt es für jeden Teilnehmer ein Los zu finde
 n. Meldet euch also gerne zeitnah an und lasst euch den Gewinn nicht entge
 hen \;-)\nUnd ganz wichtig\, jedes Los gewinnt!!!\nAnschließend stärken wi
 r uns bei einer kleinen Mahlzeit oder auch einem Getränk.\nAnmeldeschluss 
 ist der 06.11.2023.\nEuer Tauchveranstaltungsteam\,Leif und Timo https://w
 ww.uc-baltic.de/veranstaltungen/kalender/ereignis/837-wer-suchet-der-finde
 t-unterwasser-schnitzeljagd
DTSTART:20231111T090000Z
DTEND:20231111T150000Z
LOCATION:Unterwasserclub Baltic e.V.  (Fahrensodde 20\, 24944 Flensburg)
SUMMARY:Wer suchet der findet\, Unterwasser-Schnitzeljagd
URL:https://www.uc-baltic.de/veranstaltungen/kalender/ereignis/837-wer-such
 et-der-findet-unterwasser-schnitzeljagd
END:VEVENT
BEGIN:VEVENT
UID:20260423T163623CEST-730556pacv@https://www.uc-baltic.de/
DTSTAMP:20260423T143623Z
DESCRIPTION:DTSA* Theorie für Tauchschüler https://www.uc-baltic.de/veranst
 altungen/kalender/ereignis/843-dtsa-theorie
DTSTART:20231111T160000Z
DTEND:20231111T200000Z
LOCATION: ()
SUMMARY:DTSA* Theorie
URL:https://www.uc-baltic.de/veranstaltungen/kalender/ereignis/843-dtsa-the
 orie
END:VEVENT
BEGIN:VEVENT
UID:20260423T163623CEST-7308jKbvA1@https://www.uc-baltic.de/
DTSTAMP:20260423T143623Z
DESCRIPTION:DTSA* Theorie für Tauchschüler https://www.uc-baltic.de/veranst
 altungen/kalender/ereignis/844-dtsa-theorie
DTSTART:20231112T160000Z
DTEND:20231112T200000Z
LOCATION: ()
SUMMARY:DTSA* Theorie
URL:https://www.uc-baltic.de/veranstaltungen/kalender/ereignis/844-dtsa-the
 orie
END:VEVENT
END:VCALENDAR
