BEGIN:VCALENDAR
VERSION:2.0
PRODID:-//https://www.uc-baltic.de///NONSGML kigkonsult.se iCalcreator 2.10.15//
METHOD:PUBLISH
BEGIN:VEVENT
UID:20260422T181333CEST-1689EePnf6@https://www.uc-baltic.de/
DTSTAMP:20260422T161333Z
DESCRIPTION: https://www.uc-baltic.de/veranstaltungen/kalender/ereignis/122
 1-flossenschwimmen-mo-19-20-uhr
DTSTART:20241104T180000Z
DTEND:20241104T190000Z
LOCATION:Campusbad (Thomas-Fincke-Straße 19\, 24943 Flensburg)
SUMMARY:Flossenschwimmen\, Mo 19 - 20 Uhr
URL:https://www.uc-baltic.de/veranstaltungen/kalender/ereignis/1221-flossen
 schwimmen-mo-19-20-uhr
END:VEVENT
BEGIN:VEVENT
UID:20260422T181333CEST-1692iVv1HN@https://www.uc-baltic.de/
DTSTAMP:20260422T161333Z
DESCRIPTION: https://www.uc-baltic.de/veranstaltungen/kalender/ereignis/123
 0-flossenschwimmen-mo-20-21-uhr
DTSTART:20241104T190000Z
DTEND:20241104T200000Z
LOCATION:Campusbad (Thomas-Fincke-Straße 19\, 24943 Flensburg)
SUMMARY:Flossenschwimmen\, Mo 20 - 21 Uhr
URL:https://www.uc-baltic.de/veranstaltungen/kalender/ereignis/1230-flossen
 schwimmen-mo-20-21-uhr
END:VEVENT
BEGIN:VEVENT
UID:20260422T181333CEST-1694eZH571@https://www.uc-baltic.de/
DTSTAMP:20260422T161333Z
DESCRIPTION: https://www.uc-baltic.de/veranstaltungen/kalender/ereignis/123
 9-uw-rugby-mo-20-21-uhr
DTSTART:20241104T190000Z
DTEND:20241104T200000Z
LOCATION:Campusbad (Thomas-Fincke-Straße 19\, 24943 Flensburg)
SUMMARY:UW-Rugby\, Mo 20 - 21 Uhr
URL:https://www.uc-baltic.de/veranstaltungen/kalender/ereignis/1239-uw-rugb
 y-mo-20-21-uhr
END:VEVENT
BEGIN:VEVENT
UID:20260422T181333CEST-16963RNsjn@https://www.uc-baltic.de/
DTSTAMP:20260422T161333Z
DESCRIPTION: https://www.uc-baltic.de/veranstaltungen/kalender/ereignis/124
 8-flossenschwimmen-di-19-20-uhr
DTSTART:20241105T180000Z
DTEND:20241105T190000Z
LOCATION:Campusbad (Thomas-Fincke-Straße 19\, 24943 Flensburg)
SUMMARY:Flossenschwimmen\, Di 19 - 20 Uhr
URL:https://www.uc-baltic.de/veranstaltungen/kalender/ereignis/1248-flossen
 schwimmen-di-19-20-uhr
END:VEVENT
BEGIN:VEVENT
UID:20260422T181333CEST-1699vRz2os@https://www.uc-baltic.de/
DTSTAMP:20260422T161333Z
DESCRIPTION: https://www.uc-baltic.de/veranstaltungen/kalender/ereignis/125
 6-flossenschwimmen-do-16-17-uhr
DTSTART:20241107T150000Z
DTEND:20241107T160000Z
LOCATION:Campusbad (Thomas-Fincke-Straße 19\, 24943 Flensburg)
SUMMARY:Flossenschwimmen\, Do 16 - 17 Uhr
URL:https://www.uc-baltic.de/veranstaltungen/kalender/ereignis/1256-flossen
 schwimmen-do-16-17-uhr
END:VEVENT
BEGIN:VEVENT
UID:20260422T181333CEST-17018S5fvF@https://www.uc-baltic.de/
DTSTAMP:20260422T161333Z
DESCRIPTION: https://www.uc-baltic.de/veranstaltungen/kalender/ereignis/126
 3-flossenschwimmen-fr-20-21-uhr
DTSTART:20241108T190000Z
DTEND:20241108T200000Z
LOCATION:Campusbad (Thomas-Fincke-Straße 19\, 24943 Flensburg)
SUMMARY:Flossenschwimmen\, Fr 20 - 21 Uhr
URL:https://www.uc-baltic.de/veranstaltungen/kalender/ereignis/1263-flossen
 schwimmen-fr-20-21-uhr
END:VEVENT
BEGIN:VEVENT
UID:20260422T181333CEST-1703g3tcmu@https://www.uc-baltic.de/
DTSTAMP:20260422T161333Z
DESCRIPTION: https://www.uc-baltic.de/veranstaltungen/kalender/ereignis/128
 0-abfrage-interesse-tauchausbildung-dtsa-dtsa-trainer-c-tauchlehrer-oder-s
 pezialkurse
DTSTART:20241101T000000Z
DTEND:20241115T224900Z
LOCATION:Unterwasserclub Baltic e.V.  (Fahrensodde 20\, 24944 Flensburg)
SUMMARY:Abfrage Interesse Tauchausbildung DTSA**\, DTSA***\, Trainer C\, Ta
 uchlehrer oder Spezialkurse
URL:https://www.uc-baltic.de/veranstaltungen/kalender/ereignis/1280-abfrage
 -interesse-tauchausbildung-dtsa-dtsa-trainer-c-tauchlehrer-oder-spezialkur
 se
END:VEVENT
BEGIN:VEVENT
UID:20260422T181333CEST-1706SDOMkp@https://www.uc-baltic.de/
DTSTAMP:20260422T161333Z
DESCRIPTION:Sehr geehrte Vereinsmitglieder\,wir als Mission Förde e.V. lade
 n Euch herzlichst zum diesjährigen Hafenputz ein!Was haben wir vor?Als jun
 ger Naturschutzverein wollen wir mit euch den Flensburger Hafen auf einer 
 Länge von 0\,7 Km von Meeresmüll befreien. Unsere Hafen-Cleanups sind eine
  Mischung zwischen\, totem Fördeschlamm\, Naturschutzeuphorie und der wahr
 scheinlich kuriosesten Schatzsuche\, die Flensburg zu bieten hat. Mit eine
 r Reihe von Taucherinnen und Tauchern werden dabei die Gegenstände aufgesp
 ürt und dann von Landhelferinnen und Landhelfern mit Muskelkraft an Land g
 ezogen. Der geborgene Meeresmüll soll von Dreck befreit und Meerestiere\, 
 die sich in dem Müll befinden gerettet werden. Der Müll wird anschließend 
 vom TBZ Flensburg fachgerecht entsorgt.\nCheck- In 10:30 I Start: 12:30 I 
 Ende 15:00\n\nWas wird geboten?\n- Kostenlose Verpflegung (Essen und Geträ
 nke)- Kostenlose Parkplätze für Taucherinnen und Taucher- Sicherheit- Jede
 r Helfer erhält einen Mission Förde e.V. Trashbag kostenlos!- Bergungsboot
 e- Umzieh- und Duschmöglichkeiten (gegen Gebühr beim Hafenmeister im Jaich
 )- Umzieh- und Spülmöglichkeiten im Basiscamp und bei Steg A an der Hafens
 pitzeAnmeldelink: https://capt.is/formular/BDNcrYsaxlacuYlNULu2bCVZ3BVlZbA
 m 02.11\, nach Anmeldeschluss folgt eine ausführliche Infomail unseres Vor
 sitzenden (Ablauf\, Parkmöglichkeiten usw.)Wir als Mission Förde e.V. freu
 en uns auf Eure Teilnahme!Auf einen erfolgreichen Hafenputz!EuerMission Fö
 rde e.V.Was soll man mitbringen?#Teamlandhelfer:- Handschuhe- Wetterfeste 
 Kleidung die dreckig werden darf- Optional wäre Werkzeug für das Befreien 
 von Meerestieren (Zangen\, Messer o.Ä.)#Teamtaucher:- Tauchversicherungska
 rte- Gültiger Tauchtauglichkeitsnachweis- Logbuch- Brevets- SMB / Dekoboje
 - Info zum Check-In @alle Helfer: Hier wird euch die Teamnummer mitgeteilt
 . Die Tauchteams der jeweiligen Teams sind fair und sicher eingeteilt. In 
 den eingeteilten Teams entscheiden die Taucher selbst\, mit wem sie tauche
 n wollen. Buddywünsche bitte in der Anmeldung mittteilen!- Die Einteilung\
 , welche am 09.11 beim Check-In mitgeteilt wird ist VERBINDLICH!- @Taucher
 : Die Parkplatzzuteilung ist so gewählt\, dass der Laufweg zum Einsatzabsc
 hnitt möglichst kurz ist.**Ablaufplan und andere wichtige Infos folgen am 
 02.11 per Mail**Verantwortlich für den Inhalt ist die Mission Förde e.V. h
 ttps://www.uc-baltic.de/veranstaltungen/kalender/ereignis/1282-hafenputz-f
 lensburg-mission-foerde
DTSTART:20241109T113000Z
DTEND:20241109T140000Z
LOCATION:Hafenspitze Flensburg ()
SUMMARY:„HafenPutz“ Flensburg Mission Förde
URL:https://www.uc-baltic.de/veranstaltungen/kalender/ereignis/1282-hafenpu
 tz-flensburg-mission-foerde
END:VEVENT
BEGIN:VEVENT
UID:20260422T181333CEST-1714o9XkBT@https://www.uc-baltic.de/
DTSTAMP:20260422T161333Z
DESCRIPTION:Ab 15:00 Uhr findet am Samstag im Clubheim ein Theorieblock für
  den laufenden Tauchkurs statt. Wir bitten um Rücksicht\, da wir den Clubr
 aum für den Unterricht benötigen https://www.uc-baltic.de/veranstaltungen/
 kalender/ereignis/1285-theorie-dtsa
DTSTART:20241109T140000Z
DTEND:20241109T180000Z
LOCATION:Unterwasserclub Baltic e.V.  (Fahrensodde 20\, 24944 Flensburg)
SUMMARY:Theorie DTSA*
URL:https://www.uc-baltic.de/veranstaltungen/kalender/ereignis/1285-theorie
 -dtsa
END:VEVENT
END:VCALENDAR
