BEGIN:VCALENDAR
VERSION:2.0
PRODID:-//https://www.uc-baltic.de///NONSGML kigkonsult.se iCalcreator 2.10.15//
METHOD:PUBLISH
BEGIN:VEVENT
UID:20260419T212130CEST-4886hZEFrE@https://www.uc-baltic.de/
DTSTAMP:20260419T192130Z
DESCRIPTION: https://www.uc-baltic.de/veranstaltungen/kalender/ereignis/167
 3-flossenschwimmen-mo-19-20-uhr
DTSTART:20251103T180000Z
DTEND:20251103T190000Z
LOCATION:Campusbad (Thomas-Fincke-Straße 19\, 24943 Flensburg)
SUMMARY:Flossenschwimmen\, Mo 19 - 20 Uhr
URL:https://www.uc-baltic.de/veranstaltungen/kalender/ereignis/1673-flossen
 schwimmen-mo-19-20-uhr
END:VEVENT
BEGIN:VEVENT
UID:20260419T212130CEST-4890Ef0cfT@https://www.uc-baltic.de/
DTSTAMP:20260419T192130Z
DESCRIPTION: https://www.uc-baltic.de/veranstaltungen/kalender/ereignis/168
 0-flossenschwimmen-mo-20-21-uhr
DTSTART:20251103T190000Z
DTEND:20251103T200000Z
LOCATION:Campusbad (Thomas-Fincke-Straße 19\, 24943 Flensburg)
SUMMARY:Flossenschwimmen\, Mo 20 - 21 Uhr
URL:https://www.uc-baltic.de/veranstaltungen/kalender/ereignis/1680-flossen
 schwimmen-mo-20-21-uhr
END:VEVENT
BEGIN:VEVENT
UID:20260419T212130CEST-4892kDfKfw@https://www.uc-baltic.de/
DTSTAMP:20260419T192130Z
DESCRIPTION: https://www.uc-baltic.de/veranstaltungen/kalender/ereignis/168
 7-uw-rugby-mo-20-21-uhr
DTSTART:20251103T190000Z
DTEND:20251103T200000Z
LOCATION:Campusbad (Thomas-Fincke-Straße 19\, 24943 Flensburg)
SUMMARY:UW-Rugby\, Mo 20 - 21 Uhr
URL:https://www.uc-baltic.de/veranstaltungen/kalender/ereignis/1687-uw-rugb
 y-mo-20-21-uhr
END:VEVENT
BEGIN:VEVENT
UID:20260419T212130CEST-4895DDkMrj@https://www.uc-baltic.de/
DTSTAMP:20260419T192130Z
DESCRIPTION: https://www.uc-baltic.de/veranstaltungen/kalender/ereignis/169
 4-flossenschwimmen-di-19-20-uhr
DTSTART:20251104T180000Z
DTEND:20251104T190000Z
LOCATION:Campusbad (Thomas-Fincke-Straße 19\, 24943 Flensburg)
SUMMARY:Flossenschwimmen\, Di 19 - 20 Uhr
URL:https://www.uc-baltic.de/veranstaltungen/kalender/ereignis/1694-flossen
 schwimmen-di-19-20-uhr
END:VEVENT
BEGIN:VEVENT
UID:20260419T212130CEST-4897pIhcRS@https://www.uc-baltic.de/
DTSTAMP:20260419T192130Z
DESCRIPTION: https://www.uc-baltic.de/veranstaltungen/kalender/ereignis/170
 1-flossenschwimmen-do-16-17-uhr
DTSTART:20251106T150000Z
DTEND:20251106T160000Z
LOCATION:Campusbad (Thomas-Fincke-Straße 19\, 24943 Flensburg)
SUMMARY:Flossenschwimmen\, Do 16 - 17 Uhr
URL:https://www.uc-baltic.de/veranstaltungen/kalender/ereignis/1701-flossen
 schwimmen-do-16-17-uhr
END:VEVENT
BEGIN:VEVENT
UID:20260419T212130CEST-4899c4jNps@https://www.uc-baltic.de/
DTSTAMP:20260419T192130Z
DESCRIPTION: https://www.uc-baltic.de/veranstaltungen/kalender/ereignis/170
 8-flossenschwimmen-fr-20-21-uhr
DTSTART:20251107T190000Z
DTEND:20251107T200000Z
LOCATION:Campusbad (Thomas-Fincke-Straße 19\, 24943 Flensburg)
SUMMARY:Flossenschwimmen\, Fr 20 - 21 Uhr
URL:https://www.uc-baltic.de/veranstaltungen/kalender/ereignis/1708-flossen
 schwimmen-fr-20-21-uhr
END:VEVENT
END:VCALENDAR
