BEGIN:VCALENDAR
VERSION:2.0
PRODID:-//https://www.uc-baltic.de///NONSGML kigkonsult.se iCalcreator 2.10.15//
METHOD:PUBLISH
BEGIN:VEVENT
UID:20260423T163623CEST-7318DUuneM@https://www.uc-baltic.de/
DTSTAMP:20260423T143623Z
DESCRIPTION: https://www.uc-baltic.de/veranstaltungen/kalender/ereignis/429
 -clubabend
DTSTART:20231103T190000Z
DTEND:20231103T220000Z
LOCATION:Clubheim UC Baltic ()
SUMMARY:Clubabend
URL:https://www.uc-baltic.de/veranstaltungen/kalender/ereignis/429-clubaben
 d
END:VEVENT
END:VCALENDAR
