BEGIN:VCALENDAR
VERSION:2.0
PRODID:-//https://www.uc-baltic.de///NONSGML kigkonsult.se iCalcreator 2.10.15//
METHOD:PUBLISH
BEGIN:VEVENT
UID:20260419T212130CEST-3289Uw4MmG@https://www.uc-baltic.de/
DTSTAMP:20260419T192130Z
DESCRIPTION: https://www.uc-baltic.de/veranstaltungen/kalender/ereignis/131
 2-clubabend
DTSTART:20251031T180000Z
DTEND:20251031T225900Z
LOCATION:Unterwasserclub Baltic e.V.  (Fahrensodde 20\, 24944 Flensburg)
SUMMARY:Clubabend
URL:https://www.uc-baltic.de/veranstaltungen/kalender/ereignis/1312-clubabe
 nd
END:VEVENT
BEGIN:VEVENT
UID:20260419T212130CEST-3292vpGlRh@https://www.uc-baltic.de/
DTSTAMP:20260419T192130Z
DESCRIPTION:Im Rahmen der Tauchausbildung im UC Baltic bieten wir einen Spe
 zialkurs (SK) GDL Dry Suit Diver / SK Trockentauchen an. In dem mehrtägige
 n Kurs soll der Bewerber in Theorie und Praxis mit der Bedienungs- und Bew
 egungstechnik beim Tauchen mit Trockentauchanzügen vertraut gemacht werden
 . Nach Abschluss des Kurses soll er größeres Vertrauen zum Trockentauchen 
 und Kenntnisse über die Besonderheiten besitzen\, mehr Sicherheit durch ko
 rrekte Handhabung und spezielle Übungstechniken erworben haben\, die Einsc
 hätzung des Leistungsvermögens bei Nutzung des eigenen Trockentauchanzuges
  verbessert haben und einen anderen Trockentaucher retten können. https://
 www.uc-baltic.de/veranstaltungen/kalender/ereignis/1656-spezialkurs-trocke
 ntauchen
DTSTART:20250930T220000Z
DTEND:20251030T230000Z
LOCATION:Unterwasserclub Baltic e.V.  (Fahrensodde 20\, 24944 Flensburg)
SUMMARY:Spezialkurs Trockentauchen
URL:https://www.uc-baltic.de/veranstaltungen/kalender/ereignis/1656-spezial
 kurs-trockentauchen
END:VEVENT
BEGIN:VEVENT
UID:20260419T212130CEST-3295vbgWNt@https://www.uc-baltic.de/
DTSTAMP:20260419T192130Z
DESCRIPTION: https://www.uc-baltic.de/veranstaltungen/kalender/ereignis/166
 3-flossenschimmen-mo-19-00-20-00-uhr-bahn-1-2-und-3-im-tiefen-bereich
DTSTART:20251027T180000Z
DTEND:20251027T190000Z
LOCATION:Campusbad (Thomas-Fincke-Straße 19\, 24943 Flensburg)
SUMMARY:Flossenschimmen\, Mo 19:00 - 20:00 Uhr\; Bahn 1\, 2 und 3 im tiefen
  Bereich
URL:https://www.uc-baltic.de/veranstaltungen/kalender/ereignis/1663-flossen
 schimmen-mo-19-00-20-00-uhr-bahn-1-2-und-3-im-tiefen-bereich
END:VEVENT
BEGIN:VEVENT
UID:20260419T212130CEST-3297fvAvtv@https://www.uc-baltic.de/
DTSTAMP:20260419T192130Z
DESCRIPTION: https://www.uc-baltic.de/veranstaltungen/kalender/ereignis/166
 5-flossenschwimmen-mo-20-00-21-00-uhr-bahn-3
DTSTART:20251027T190000Z
DTEND:20251027T200000Z
LOCATION:Campusbad (Thomas-Fincke-Straße 19\, 24943 Flensburg)
SUMMARY:Flossenschwimmen\, Mo 20:00 - 21:00 Uhr\; Bahn 3
URL:https://www.uc-baltic.de/veranstaltungen/kalender/ereignis/1665-flossen
 schwimmen-mo-20-00-21-00-uhr-bahn-3
END:VEVENT
BEGIN:VEVENT
UID:20260419T212130CEST-3298oFEkuV@https://www.uc-baltic.de/
DTSTAMP:20260419T192130Z
DESCRIPTION: https://www.uc-baltic.de/veranstaltungen/kalender/ereignis/166
 7-uw-rugby-mo-20-00-21-00-uhr-bahn-1-und-2-tiefer-bereich
DTSTART:20251027T190000Z
DTEND:20251027T200000Z
LOCATION:Campusbad (Thomas-Fincke-Straße 19\, 24943 Flensburg)
SUMMARY:UW-Rugby\, Mo 20:00 - 21:00 Uhr\; Bahn 1 und 2 tiefer Bereich
URL:https://www.uc-baltic.de/veranstaltungen/kalender/ereignis/1667-uw-rugb
 y-mo-20-00-21-00-uhr-bahn-1-und-2-tiefer-bereich
END:VEVENT
BEGIN:VEVENT
UID:20260419T212130CEST-3300VGwsAw@https://www.uc-baltic.de/
DTSTAMP:20260419T192130Z
DESCRIPTION: https://www.uc-baltic.de/veranstaltungen/kalender/ereignis/166
 9-flossenschwimmen-di-19-00-20-00-uhr-bahn-1-flacher-bereich
DTSTART:20251028T180000Z
DTEND:20251028T190000Z
LOCATION:Campusbad (Thomas-Fincke-Straße 19\, 24943 Flensburg)
SUMMARY:Flossenschwimmen\, Di 19:00 - 20:00 Uhr\, Bahn 1 flacher Bereich
URL:https://www.uc-baltic.de/veranstaltungen/kalender/ereignis/1669-flossen
 schwimmen-di-19-00-20-00-uhr-bahn-1-flacher-bereich
END:VEVENT
BEGIN:VEVENT
UID:20260419T212130CEST-33022x6kVi@https://www.uc-baltic.de/
DTSTAMP:20260419T192130Z
DESCRIPTION: https://www.uc-baltic.de/veranstaltungen/kalender/ereignis/167
 1-flossenschwimmen-do-16-00-17-00-uhr-bahn-7-flacher-bereich
DTSTART:20251030T150000Z
DTEND:20251030T160000Z
LOCATION:Campusbad (Thomas-Fincke-Straße 19\, 24943 Flensburg)
SUMMARY:Flossenschwimmen\, Do 16:00 - 17:00 Uhr\, Bahn 7 flacher Bereich
URL:https://www.uc-baltic.de/veranstaltungen/kalender/ereignis/1671-flossen
 schwimmen-do-16-00-17-00-uhr-bahn-7-flacher-bereich
END:VEVENT
END:VCALENDAR
