BEGIN:VCALENDAR
VERSION:2.0
PRODID:-//https://www.uc-baltic.de///NONSGML kigkonsult.se iCalcreator 2.10.15//
METHOD:PUBLISH
BEGIN:VEVENT
UID:20260422T200745CEST-3158B3GK9K@https://www.uc-baltic.de/
DTSTAMP:20260422T180745Z
DESCRIPTION:Treffen:19:00 UhrFilm Start: 19:30 Uhr\nPioneer\, FSK 12\nEin F
 ilm über Taucher\, die in 300 m Tiefe Öl- Pipeline verlegen. \nWie das Tri
 mix-Tauchen nach Europa kam und Norwegen zum reichsten Land in Europa wurd
 e.\n Die Geschichte von PIONEER basiert auf wahren Begebenheiten. Anmeldun
 g: \nBis zum 21.10.2024 über unseren Kalender.\nDie maximale Personenzahl 
 liegt bei 30 Personen!!!\n \n https://www.uc-baltic.de/veranstaltungen/kal
 ender/ereignis/1214-dvd-abend-pioneer-fsk-12
DTSTART:20241023T170000Z
DTEND:20241023T193000Z
LOCATION:Clubheim UC Baltic ()
SUMMARY:DVD-Abend\; Pioneer FSK 12
URL:https://www.uc-baltic.de/veranstaltungen/kalender/ereignis/1214-dvd-abe
 nd-pioneer-fsk-12
END:VEVENT
BEGIN:VEVENT
UID:20260422T200745CEST-31648se2du@https://www.uc-baltic.de/
DTSTAMP:20260422T180745Z
DESCRIPTION: https://www.uc-baltic.de/veranstaltungen/kalender/ereignis/121
 9-flossenschwimmen-mo-19-20-uhr
DTSTART:20241021T170000Z
DTEND:20241021T180000Z
LOCATION:Campusbad (Thomas-Fincke-Straße 19\, 24943 Flensburg)
SUMMARY:Flossenschwimmen\, Mo 19 - 20 Uhr
URL:https://www.uc-baltic.de/veranstaltungen/kalender/ereignis/1219-flossen
 schwimmen-mo-19-20-uhr
END:VEVENT
BEGIN:VEVENT
UID:20260422T200745CEST-3167em6aG8@https://www.uc-baltic.de/
DTSTAMP:20260422T180745Z
DESCRIPTION: https://www.uc-baltic.de/veranstaltungen/kalender/ereignis/122
 8-flossenschwimmen-mo-20-21-uhr
DTSTART:20241021T180000Z
DTEND:20241021T190000Z
LOCATION:Campusbad (Thomas-Fincke-Straße 19\, 24943 Flensburg)
SUMMARY:Flossenschwimmen\, Mo 20 - 21 Uhr
URL:https://www.uc-baltic.de/veranstaltungen/kalender/ereignis/1228-flossen
 schwimmen-mo-20-21-uhr
END:VEVENT
BEGIN:VEVENT
UID:20260422T200745CEST-3169ZtmeEo@https://www.uc-baltic.de/
DTSTAMP:20260422T180745Z
DESCRIPTION: https://www.uc-baltic.de/veranstaltungen/kalender/ereignis/123
 7-uw-rugby-mo-20-21-uhr
DTSTART:20241021T180000Z
DTEND:20241021T190000Z
LOCATION:Campusbad (Thomas-Fincke-Straße 19\, 24943 Flensburg)
SUMMARY:UW-Rugby\, Mo 20 - 21 Uhr
URL:https://www.uc-baltic.de/veranstaltungen/kalender/ereignis/1237-uw-rugb
 y-mo-20-21-uhr
END:VEVENT
BEGIN:VEVENT
UID:20260422T200745CEST-3171Kugkox@https://www.uc-baltic.de/
DTSTAMP:20260422T180745Z
DESCRIPTION: https://www.uc-baltic.de/veranstaltungen/kalender/ereignis/124
 6-flossenschwimmen-di-19-20-uhr
DTSTART:20241022T170000Z
DTEND:20241022T180000Z
LOCATION:Campusbad (Thomas-Fincke-Straße 19\, 24943 Flensburg)
SUMMARY:Flossenschwimmen\, Di 19 - 20 Uhr
URL:https://www.uc-baltic.de/veranstaltungen/kalender/ereignis/1246-flossen
 schwimmen-di-19-20-uhr
END:VEVENT
BEGIN:VEVENT
UID:20260422T200745CEST-3173vPHdxU@https://www.uc-baltic.de/
DTSTAMP:20260422T180745Z
DESCRIPTION: https://www.uc-baltic.de/veranstaltungen/kalender/ereignis/125
 5-flossenschwimmen-do-16-17-uhr
DTSTART:20241024T140000Z
DTEND:20241024T150000Z
LOCATION:Campusbad (Thomas-Fincke-Straße 19\, 24943 Flensburg)
SUMMARY:Flossenschwimmen\, Do 16 - 17 Uhr
URL:https://www.uc-baltic.de/veranstaltungen/kalender/ereignis/1255-flossen
 schwimmen-do-16-17-uhr
END:VEVENT
END:VCALENDAR
