BEGIN:VCALENDAR
VERSION:2.0
PRODID:-//https://www.uc-baltic.de///NONSGML kigkonsult.se iCalcreator 2.10.15//
METHOD:PUBLISH
BEGIN:VEVENT
UID:20260423T175731CEST-5863uzBBgS@https://www.uc-baltic.de/
DTSTAMP:20260423T155731Z
DESCRIPTION: https://www.uc-baltic.de/veranstaltungen/kalender/ereignis/430
 -clubabend
DTSTART:20231020T180000Z
DTEND:20231020T210000Z
LOCATION:Clubheim UC Baltic ()
SUMMARY:Clubabend
URL:https://www.uc-baltic.de/veranstaltungen/kalender/ereignis/430-clubaben
 d
END:VEVENT
END:VCALENDAR
