BEGIN:VCALENDAR
VERSION:2.0
PRODID:-//https://www.uc-baltic.de///NONSGML kigkonsult.se iCalcreator 2.10.15//
METHOD:PUBLISH
BEGIN:VEVENT
UID:20260422T202849CEST-76426rZceg@https://www.uc-baltic.de/
DTSTAMP:20260422T182849Z
DESCRIPTION: https://www.uc-baltic.de/veranstaltungen/kalender/ereignis/102
 6-clubabend
DTSTART:20241018T170000Z
DTEND:20241018T215900Z
LOCATION:Clubheim UC Baltic ()
SUMMARY:Clubabend
URL:https://www.uc-baltic.de/veranstaltungen/kalender/ereignis/1026-clubabe
 nd
END:VEVENT
BEGIN:VEVENT
UID:20260422T202849CEST-7645oJzjVh@https://www.uc-baltic.de/
DTSTAMP:20260422T182849Z
DESCRIPTION:Treffen und Einlass 18:45 Uhr https://www.uc-baltic.de/veransta
 ltungen/kalender/ereignis/1174-flossenschwimmen-mo-19-20-uhr
DTSTART:20241014T170000Z
DTEND:20241014T180000Z
LOCATION:Campusbad (Thomas-Fincke-Straße 19\, 24943 Flensburg)
SUMMARY:Flossenschwimmen\, Mo 19-20 Uhr
URL:https://www.uc-baltic.de/veranstaltungen/kalender/ereignis/1174-flossen
 schwimmen-mo-19-20-uhr
END:VEVENT
BEGIN:VEVENT
UID:20260422T202849CEST-7648vemB9K@https://www.uc-baltic.de/
DTSTAMP:20260422T182849Z
DESCRIPTION:Treffen und Einlass 19:45 Uhr https://www.uc-baltic.de/veransta
 ltungen/kalender/ereignis/1181-flossenschwimmen-mo-20-21-uhr
DTSTART:20241014T180000Z
DTEND:20241014T190000Z
LOCATION:Campusbad (Thomas-Fincke-Straße 19\, 24943 Flensburg)
SUMMARY:Flossenschwimmen\, Mo 20-21 Uhr
URL:https://www.uc-baltic.de/veranstaltungen/kalender/ereignis/1181-flossen
 schwimmen-mo-20-21-uhr
END:VEVENT
BEGIN:VEVENT
UID:20260422T202849CEST-76508V5e8n@https://www.uc-baltic.de/
DTSTAMP:20260422T182849Z
DESCRIPTION:Treffen und Einlass 19:45 Uhr https://www.uc-baltic.de/veransta
 ltungen/kalender/ereignis/1188-uw-rugby-mo-20-21-uhr
DTSTART:20241014T180000Z
DTEND:20241014T190000Z
LOCATION:Campusbad (Thomas-Fincke-Straße 19\, 24943 Flensburg)
SUMMARY:UW-Rugby\, Mo 20-21 Uhr
URL:https://www.uc-baltic.de/veranstaltungen/kalender/ereignis/1188-uw-rugb
 y-mo-20-21-uhr
END:VEVENT
BEGIN:VEVENT
UID:20260422T202849CEST-7652FpgftW@https://www.uc-baltic.de/
DTSTAMP:20260422T182849Z
DESCRIPTION:Treffen und Einlass 18:45 Uhr https://www.uc-baltic.de/veransta
 ltungen/kalender/ereignis/1195-flossenschwimmen-di-19-20-uhr
DTSTART:20241015T170000Z
DTEND:20241015T180000Z
LOCATION:Campusbad (Thomas-Fincke-Straße 19\, 24943 Flensburg)
SUMMARY:Flossenschwimmen\, Di 19-20 Uhr
URL:https://www.uc-baltic.de/veranstaltungen/kalender/ereignis/1195-flossen
 schwimmen-di-19-20-uhr
END:VEVENT
BEGIN:VEVENT
UID:20260422T202849CEST-765411fDWV@https://www.uc-baltic.de/
DTSTAMP:20260422T182849Z
DESCRIPTION:Treffen und Einlass 15:45 Uhr https://www.uc-baltic.de/veransta
 ltungen/kalender/ereignis/1201-flossenschwimmen-do-16-17-uhr
DTSTART:20241017T140000Z
DTEND:20241017T150000Z
LOCATION:Campusbad (Thomas-Fincke-Straße 19\, 24943 Flensburg)
SUMMARY:Flossenschwimmen\, Do 16-17 Uhr
URL:https://www.uc-baltic.de/veranstaltungen/kalender/ereignis/1201-flossen
 schwimmen-do-16-17-uhr
END:VEVENT
BEGIN:VEVENT
UID:20260422T202849CEST-7657nj2b25@https://www.uc-baltic.de/
DTSTAMP:20260422T182849Z
DESCRIPTION:Treffen und Einlass 19:45 Uhr https://www.uc-baltic.de/veransta
 ltungen/kalender/ereignis/1208-flossenschwimmen-fr-20-21-uhr
DTSTART:20241018T180000Z
DTEND:20241018T190000Z
LOCATION:Campusbad (Thomas-Fincke-Straße 19\, 24943 Flensburg)
SUMMARY:Flossenschwimmen\, Fr 20-21 Uhr
URL:https://www.uc-baltic.de/veranstaltungen/kalender/ereignis/1208-flossen
 schwimmen-fr-20-21-uhr
END:VEVENT
END:VCALENDAR
