BEGIN:VCALENDAR
VERSION:2.0
PRODID:-//https://www.uc-baltic.de///NONSGML kigkonsult.se iCalcreator 2.10.15//
METHOD:PUBLISH
BEGIN:VEVENT
UID:20260419T224939CEST-6297CkT7VH@https://www.uc-baltic.de/
DTSTAMP:20260419T204939Z
DESCRIPTION: https://www.uc-baltic.de/veranstaltungen/kalender/ereignis/131
 1-clubabend
DTSTART:20251017T170000Z
DTEND:20251017T215900Z
LOCATION:Unterwasserclub Baltic e.V.  (Fahrensodde 20\, 24944 Flensburg)
SUMMARY:Clubabend
URL:https://www.uc-baltic.de/veranstaltungen/kalender/ereignis/1311-clubabe
 nd
END:VEVENT
BEGIN:VEVENT
UID:20260419T224939CEST-6300CePKHO@https://www.uc-baltic.de/
DTSTAMP:20260419T204939Z
DESCRIPTION: https://www.uc-baltic.de/veranstaltungen/kalender/ereignis/162
 1-flossenschwimmen-mo-19-00-20-00-uhr
DTSTART:20251013T170000Z
DTEND:20251013T180000Z
LOCATION:Campusbad (Thomas-Fincke-Straße 19\, 24943 Flensburg)
SUMMARY:Flossenschwimmen\, Mo 19:00 - 20:00 Uhr
URL:https://www.uc-baltic.de/veranstaltungen/kalender/ereignis/1621-flossen
 schwimmen-mo-19-00-20-00-uhr
END:VEVENT
BEGIN:VEVENT
UID:20260419T224939CEST-6302cAHJv8@https://www.uc-baltic.de/
DTSTAMP:20260419T204939Z
DESCRIPTION: https://www.uc-baltic.de/veranstaltungen/kalender/ereignis/162
 7-flossenschwimmen-mo-20-00-21-00-unr
DTSTART:20251013T180000Z
DTEND:20251013T190000Z
LOCATION:Campusbad (Thomas-Fincke-Straße 19\, 24943 Flensburg)
SUMMARY:Flossenschwimmen\, Mo 20:00 - 21:00 Unr
URL:https://www.uc-baltic.de/veranstaltungen/kalender/ereignis/1627-flossen
 schwimmen-mo-20-00-21-00-unr
END:VEVENT
BEGIN:VEVENT
UID:20260419T224939CEST-6305HdJPo1@https://www.uc-baltic.de/
DTSTAMP:20260419T204939Z
DESCRIPTION: https://www.uc-baltic.de/veranstaltungen/kalender/ereignis/163
 3-uw-rugby-mo-20-00-21-00-uhr
DTSTART:20251013T180000Z
DTEND:20251013T190000Z
LOCATION:Campusbad (Thomas-Fincke-Straße 19\, 24943 Flensburg)
SUMMARY:UW-Rugby\, Mo  20:00 - 21:00 Uhr
URL:https://www.uc-baltic.de/veranstaltungen/kalender/ereignis/1633-uw-rugb
 y-mo-20-00-21-00-uhr
END:VEVENT
BEGIN:VEVENT
UID:20260419T224939CEST-6307pN8SsE@https://www.uc-baltic.de/
DTSTAMP:20260419T204939Z
DESCRIPTION: https://www.uc-baltic.de/veranstaltungen/kalender/ereignis/164
 0-flossenschwimmen-di-19-00-20-00-uhr
DTSTART:20251014T170000Z
DTEND:20251014T180000Z
LOCATION:Campusbad (Thomas-Fincke-Straße 19\, 24943 Flensburg)
SUMMARY:Flossenschwimmen\, Di 19:00 - 20:00  Uhr
URL:https://www.uc-baltic.de/veranstaltungen/kalender/ereignis/1640-flossen
 schwimmen-di-19-00-20-00-uhr
END:VEVENT
BEGIN:VEVENT
UID:20260419T224939CEST-6309P6eImr@https://www.uc-baltic.de/
DTSTAMP:20260419T204939Z
DESCRIPTION: https://www.uc-baltic.de/veranstaltungen/kalender/ereignis/164
 6-flossenschwimmen-do-16-00-17-00-unr
DTSTART:20251016T140000Z
DTEND:20251016T150000Z
LOCATION:Campusbad (Thomas-Fincke-Straße 19\, 24943 Flensburg)
SUMMARY:Flossenschwimmen\, Do 16:00 - 17:00 Unr
URL:https://www.uc-baltic.de/veranstaltungen/kalender/ereignis/1646-flossen
 schwimmen-do-16-00-17-00-unr
END:VEVENT
BEGIN:VEVENT
UID:20260419T224939CEST-63113nzkjB@https://www.uc-baltic.de/
DTSTAMP:20260419T204939Z
DESCRIPTION: https://www.uc-baltic.de/veranstaltungen/kalender/ereignis/165
 1-flossenschwimmen-fr-20-00-21-00-uhr
DTSTART:20251017T180000Z
DTEND:20251017T190000Z
LOCATION:Campusbad (Thomas-Fincke-Straße 19\, 24943 Flensburg)
SUMMARY:Flossenschwimmen\, Fr 20::00 - 21:00 Uhr
URL:https://www.uc-baltic.de/veranstaltungen/kalender/ereignis/1651-flossen
 schwimmen-fr-20-00-21-00-uhr
END:VEVENT
BEGIN:VEVENT
UID:20260419T224939CEST-6314a5VsUZ@https://www.uc-baltic.de/
DTSTAMP:20260419T204939Z
DESCRIPTION:Im Rahmen der Tauchausbildung im UC Baltic bieten wir einen Spe
 zialkurs (SK) GDL Dry Suit Diver / SK Trockentauchen an. In dem mehrtägige
 n Kurs soll der Bewerber in Theorie und Praxis mit der Bedienungs- und Bew
 egungstechnik beim Tauchen mit Trockentauchanzügen vertraut gemacht werden
 . Nach Abschluss des Kurses soll er größeres Vertrauen zum Trockentauchen 
 und Kenntnisse über die Besonderheiten besitzen\, mehr Sicherheit durch ko
 rrekte Handhabung und spezielle Übungstechniken erworben haben\, die Einsc
 hätzung des Leistungsvermögens bei Nutzung des eigenen Trockentauchanzuges
  verbessert haben und einen anderen Trockentaucher retten können. https://
 www.uc-baltic.de/veranstaltungen/kalender/ereignis/1656-spezialkurs-trocke
 ntauchen
DTSTART:20250930T220000Z
DTEND:20251030T230000Z
LOCATION:Unterwasserclub Baltic e.V.  (Fahrensodde 20\, 24944 Flensburg)
SUMMARY:Spezialkurs Trockentauchen
URL:https://www.uc-baltic.de/veranstaltungen/kalender/ereignis/1656-spezial
 kurs-trockentauchen
END:VEVENT
END:VCALENDAR
