BEGIN:VCALENDAR
VERSION:2.0
PRODID:-//https://www.uc-baltic.de///NONSGML kigkonsult.se iCalcreator 2.10.15//
METHOD:PUBLISH
BEGIN:VEVENT
UID:20260422T202849CEST-8669j2hmPV@https://www.uc-baltic.de/
DTSTAMP:20260422T182849Z
DESCRIPTION:Treffen und Einlass 18:45 Uhr https://www.uc-baltic.de/veransta
 ltungen/kalender/ereignis/1173-flossenschwimmen-mo-19-20-uhr
DTSTART:20241007T170000Z
DTEND:20241007T180000Z
LOCATION:Campusbad (Thomas-Fincke-Straße 19\, 24943 Flensburg)
SUMMARY:Flossenschwimmen\, Mo 19-20 Uhr
URL:https://www.uc-baltic.de/veranstaltungen/kalender/ereignis/1173-flossen
 schwimmen-mo-19-20-uhr
END:VEVENT
BEGIN:VEVENT
UID:20260422T202849CEST-8673zBag03@https://www.uc-baltic.de/
DTSTAMP:20260422T182849Z
DESCRIPTION:Treffen und Einlass 19:45 Uhr https://www.uc-baltic.de/veransta
 ltungen/kalender/ereignis/1180-flossenschwimmen-mo-20-21-uhr
DTSTART:20241007T180000Z
DTEND:20241007T190000Z
LOCATION:Campusbad (Thomas-Fincke-Straße 19\, 24943 Flensburg)
SUMMARY:Flossenschwimmen\, Mo 20-21 Uhr
URL:https://www.uc-baltic.de/veranstaltungen/kalender/ereignis/1180-flossen
 schwimmen-mo-20-21-uhr
END:VEVENT
BEGIN:VEVENT
UID:20260422T202849CEST-8675WjlDfg@https://www.uc-baltic.de/
DTSTAMP:20260422T182849Z
DESCRIPTION:Treffen und Einlass 19:45 Uhr https://www.uc-baltic.de/veransta
 ltungen/kalender/ereignis/1187-uw-rugby-mo-20-21-uhr
DTSTART:20241007T180000Z
DTEND:20241007T190000Z
LOCATION:Campusbad (Thomas-Fincke-Straße 19\, 24943 Flensburg)
SUMMARY:UW-Rugby\, Mo 20-21 Uhr
URL:https://www.uc-baltic.de/veranstaltungen/kalender/ereignis/1187-uw-rugb
 y-mo-20-21-uhr
END:VEVENT
BEGIN:VEVENT
UID:20260422T202849CEST-8678WBpFjN@https://www.uc-baltic.de/
DTSTAMP:20260422T182849Z
DESCRIPTION:Treffen und Einlass 18:45 Uhr https://www.uc-baltic.de/veransta
 ltungen/kalender/ereignis/1194-flossenschwimmen-di-19-20-uhr
DTSTART:20241008T170000Z
DTEND:20241008T180000Z
LOCATION:Campusbad (Thomas-Fincke-Straße 19\, 24943 Flensburg)
SUMMARY:Flossenschwimmen\, Di 19-20 Uhr
URL:https://www.uc-baltic.de/veranstaltungen/kalender/ereignis/1194-flossen
 schwimmen-di-19-20-uhr
END:VEVENT
BEGIN:VEVENT
UID:20260422T202849CEST-86803N9pkd@https://www.uc-baltic.de/
DTSTAMP:20260422T182849Z
DESCRIPTION:Treffen und Einlass 15:45 Uhr https://www.uc-baltic.de/veransta
 ltungen/kalender/ereignis/1200-flossenschwimmen-do-16-17-uhr
DTSTART:20241010T140000Z
DTEND:20241010T150000Z
LOCATION:Campusbad (Thomas-Fincke-Straße 19\, 24943 Flensburg)
SUMMARY:Flossenschwimmen\, Do 16-17 Uhr
URL:https://www.uc-baltic.de/veranstaltungen/kalender/ereignis/1200-flossen
 schwimmen-do-16-17-uhr
END:VEVENT
BEGIN:VEVENT
UID:20260422T202849CEST-8682v2ZvXv@https://www.uc-baltic.de/
DTSTAMP:20260422T182849Z
DESCRIPTION:Treffen und Einlass 19:45 Uhr https://www.uc-baltic.de/veransta
 ltungen/kalender/ereignis/1207-flossenschwimmen-fr-20-21-uhr
DTSTART:20241011T180000Z
DTEND:20241011T190000Z
LOCATION:Campusbad (Thomas-Fincke-Straße 19\, 24943 Flensburg)
SUMMARY:Flossenschwimmen\, Fr 20-21 Uhr
URL:https://www.uc-baltic.de/veranstaltungen/kalender/ereignis/1207-flossen
 schwimmen-fr-20-21-uhr
END:VEVENT
END:VCALENDAR
