BEGIN:VCALENDAR
VERSION:2.0
PRODID:-//https://www.uc-baltic.de///NONSGML kigkonsult.se iCalcreator 2.10.15//
METHOD:PUBLISH
BEGIN:VEVENT
UID:20260423T175732CEST-07911To3E0@https://www.uc-baltic.de/
DTSTAMP:20260423T155732Z
DESCRIPTION: https://www.uc-baltic.de/veranstaltungen/kalender/ereignis/431
 -clubabend
DTSTART:20231006T180000Z
DTEND:20231006T210000Z
LOCATION:Clubheim UC Baltic ()
SUMMARY:Clubabend
URL:https://www.uc-baltic.de/veranstaltungen/kalender/ereignis/431-clubaben
 d
END:VEVENT
END:VCALENDAR
