BEGIN:VCALENDAR
VERSION:2.0
PRODID:-//https://www.uc-baltic.de///NONSGML kigkonsult.se iCalcreator 2.10.15//
METHOD:PUBLISH
BEGIN:VEVENT
UID:20260422T202839CEST-1802KvxEfp@https://www.uc-baltic.de/
DTSTAMP:20260422T182839Z
DESCRIPTION: https://www.uc-baltic.de/veranstaltungen/kalender/ereignis/102
 4-clubabend
DTSTART:20241004T170000Z
DTEND:20241004T215900Z
LOCATION:Clubheim UC Baltic ()
SUMMARY:Clubabend
URL:https://www.uc-baltic.de/veranstaltungen/kalender/ereignis/1024-clubabe
 nd
END:VEVENT
BEGIN:VEVENT
UID:20260422T202839CEST-1805O3bl4b@https://www.uc-baltic.de/
DTSTAMP:20260422T182839Z
DESCRIPTION:Treffen und Einlass 18:45 Uhr https://www.uc-baltic.de/veransta
 ltungen/kalender/ereignis/1172-flossenschwimmen-mo-19-20-uhr
DTSTART:20240930T170000Z
DTEND:20240930T180000Z
LOCATION:Campusbad (Thomas-Fincke-Straße 19\, 24943 Flensburg)
SUMMARY:Flossenschwimmen\, Mo 19-20 Uhr
URL:https://www.uc-baltic.de/veranstaltungen/kalender/ereignis/1172-flossen
 schwimmen-mo-19-20-uhr
END:VEVENT
BEGIN:VEVENT
UID:20260422T202839CEST-18077udhhD@https://www.uc-baltic.de/
DTSTAMP:20260422T182839Z
DESCRIPTION:Treffen und Einlass 19:45 Uhr https://www.uc-baltic.de/veransta
 ltungen/kalender/ereignis/1179-flossenschwimmen-mo-20-21-uhr
DTSTART:20240930T180000Z
DTEND:20240930T190000Z
LOCATION:Campusbad (Thomas-Fincke-Straße 19\, 24943 Flensburg)
SUMMARY:Flossenschwimmen\, Mo 20-21 Uhr
URL:https://www.uc-baltic.de/veranstaltungen/kalender/ereignis/1179-flossen
 schwimmen-mo-20-21-uhr
END:VEVENT
BEGIN:VEVENT
UID:20260422T202839CEST-1809Mprk6D@https://www.uc-baltic.de/
DTSTAMP:20260422T182839Z
DESCRIPTION:Treffen und Einlass 19:45 Uhr https://www.uc-baltic.de/veransta
 ltungen/kalender/ereignis/1186-uw-rugby-mo-20-21-uhr
DTSTART:20240930T180000Z
DTEND:20240930T190000Z
LOCATION:Campusbad (Thomas-Fincke-Straße 19\, 24943 Flensburg)
SUMMARY:UW-Rugby\, Mo 20-21 Uhr
URL:https://www.uc-baltic.de/veranstaltungen/kalender/ereignis/1186-uw-rugb
 y-mo-20-21-uhr
END:VEVENT
BEGIN:VEVENT
UID:20260422T202839CEST-1810Ogmx7o@https://www.uc-baltic.de/
DTSTAMP:20260422T182839Z
DESCRIPTION:Treffen und Einlass 18:45 Uhr https://www.uc-baltic.de/veransta
 ltungen/kalender/ereignis/1193-flossenschwimmen-di-19-20-uhr
DTSTART:20241001T170000Z
DTEND:20241001T180000Z
LOCATION:Campusbad (Thomas-Fincke-Straße 19\, 24943 Flensburg)
SUMMARY:Flossenschwimmen\, Di 19-20 Uhr
URL:https://www.uc-baltic.de/veranstaltungen/kalender/ereignis/1193-flossen
 schwimmen-di-19-20-uhr
END:VEVENT
BEGIN:VEVENT
UID:20260422T202839CEST-1812bVZ933@https://www.uc-baltic.de/
DTSTAMP:20260422T182839Z
DESCRIPTION:Treffen und Einlass 19:45 Uhr https://www.uc-baltic.de/veransta
 ltungen/kalender/ereignis/1206-flossenschwimmen-fr-20-21-uhr
DTSTART:20241004T180000Z
DTEND:20241004T190000Z
LOCATION:Campusbad (Thomas-Fincke-Straße 19\, 24943 Flensburg)
SUMMARY:Flossenschwimmen\, Fr 20-21 Uhr
URL:https://www.uc-baltic.de/veranstaltungen/kalender/ereignis/1206-flossen
 schwimmen-fr-20-21-uhr
END:VEVENT
END:VCALENDAR
