BEGIN:VCALENDAR
VERSION:2.0
PRODID:-//https://www.uc-baltic.de///NONSGML kigkonsult.se iCalcreator 2.10.15//
METHOD:PUBLISH
BEGIN:VEVENT
UID:20260419T224940CEST-1928LwHPPZ@https://www.uc-baltic.de/
DTSTAMP:20260419T204940Z
DESCRIPTION: https://www.uc-baltic.de/veranstaltungen/kalender/ereignis/131
 0-clubabend
DTSTART:20251003T170000Z
DTEND:20251003T215900Z
LOCATION:Unterwasserclub Baltic e.V.  (Fahrensodde 20\, 24944 Flensburg)
SUMMARY:Clubabend
URL:https://www.uc-baltic.de/veranstaltungen/kalender/ereignis/1310-clubabe
 nd
END:VEVENT
BEGIN:VEVENT
UID:20260419T224940CEST-1931lbUO5i@https://www.uc-baltic.de/
DTSTAMP:20260419T204940Z
DESCRIPTION: https://www.uc-baltic.de/veranstaltungen/kalender/ereignis/161
 9-flossenschwimmen-mo-19-00-20-00-uhr
DTSTART:20250929T170000Z
DTEND:20250929T180000Z
LOCATION:Campusbad (Thomas-Fincke-Straße 19\, 24943 Flensburg)
SUMMARY:Flossenschwimmen\, Mo 19:00 - 20:00 Uhr
URL:https://www.uc-baltic.de/veranstaltungen/kalender/ereignis/1619-flossen
 schwimmen-mo-19-00-20-00-uhr
END:VEVENT
BEGIN:VEVENT
UID:20260419T224940CEST-1933MmpWcA@https://www.uc-baltic.de/
DTSTAMP:20260419T204940Z
DESCRIPTION: https://www.uc-baltic.de/veranstaltungen/kalender/ereignis/162
 5-flossenschwimmen-mo-20-00-21-00-unr
DTSTART:20250929T180000Z
DTEND:20250929T190000Z
LOCATION:Campusbad (Thomas-Fincke-Straße 19\, 24943 Flensburg)
SUMMARY:Flossenschwimmen\, Mo 20:00 - 21:00 Unr
URL:https://www.uc-baltic.de/veranstaltungen/kalender/ereignis/1625-flossen
 schwimmen-mo-20-00-21-00-unr
END:VEVENT
BEGIN:VEVENT
UID:20260419T224940CEST-1935aIPvox@https://www.uc-baltic.de/
DTSTAMP:20260419T204940Z
DESCRIPTION: https://www.uc-baltic.de/veranstaltungen/kalender/ereignis/163
 1-uw-rugby-mo-20-00-21-00-uhr
DTSTART:20250929T180000Z
DTEND:20250929T190000Z
LOCATION:Campusbad (Thomas-Fincke-Straße 19\, 24943 Flensburg)
SUMMARY:UW-Rugby\, Mo  20:00 - 21:00 Uhr
URL:https://www.uc-baltic.de/veranstaltungen/kalender/ereignis/1631-uw-rugb
 y-mo-20-00-21-00-uhr
END:VEVENT
BEGIN:VEVENT
UID:20260419T224940CEST-1938sUZ8vu@https://www.uc-baltic.de/
DTSTAMP:20260419T204940Z
DESCRIPTION: https://www.uc-baltic.de/veranstaltungen/kalender/ereignis/163
 8-flossenschwimmen-di-19-00-20-00-uhr
DTSTART:20250930T170000Z
DTEND:20250930T180000Z
LOCATION:Campusbad (Thomas-Fincke-Straße 19\, 24943 Flensburg)
SUMMARY:Flossenschwimmen\, Di 19:00 - 20:00  Uhr
URL:https://www.uc-baltic.de/veranstaltungen/kalender/ereignis/1638-flossen
 schwimmen-di-19-00-20-00-uhr
END:VEVENT
BEGIN:VEVENT
UID:20260419T224940CEST-1940416rW0@https://www.uc-baltic.de/
DTSTAMP:20260419T204940Z
DESCRIPTION: https://www.uc-baltic.de/veranstaltungen/kalender/ereignis/164
 4-flossenschwimmen-do-16-00-17-00-unr
DTSTART:20251002T140000Z
DTEND:20251002T150000Z
LOCATION:Campusbad (Thomas-Fincke-Straße 19\, 24943 Flensburg)
SUMMARY:Flossenschwimmen\, Do 16:00 - 17:00 Unr
URL:https://www.uc-baltic.de/veranstaltungen/kalender/ereignis/1644-flossen
 schwimmen-do-16-00-17-00-unr
END:VEVENT
BEGIN:VEVENT
UID:20260419T224940CEST-19424ZHXhX@https://www.uc-baltic.de/
DTSTAMP:20260419T204940Z
DESCRIPTION:1. Treffen der neuen DTSA* Schüler 2025/2026 https://www.uc-bal
 tic.de/veranstaltungen/kalender/ereignis/1654-kick-off-dtsa-2025-2026
DTSTART:20251001T170000Z
DTEND:20251001T190000Z
LOCATION:Clubheim UC Baltic ()
SUMMARY:Kick-off DTSA* 2025/2026
URL:https://www.uc-baltic.de/veranstaltungen/kalender/ereignis/1654-kick-of
 f-dtsa-2025-2026
END:VEVENT
BEGIN:VEVENT
UID:20260419T224940CEST-1945TWiv48@https://www.uc-baltic.de/
DTSTAMP:20260419T204940Z
DESCRIPTION:Im Rahmen der Tauchausbildung im UC Baltic bieten wir einen Spe
 zialkurs (SK) GDL Dry Suit Diver / SK Trockentauchen an. In dem mehrtägige
 n Kurs soll der Bewerber in Theorie und Praxis mit der Bedienungs- und Bew
 egungstechnik beim Tauchen mit Trockentauchanzügen vertraut gemacht werden
 . Nach Abschluss des Kurses soll er größeres Vertrauen zum Trockentauchen 
 und Kenntnisse über die Besonderheiten besitzen\, mehr Sicherheit durch ko
 rrekte Handhabung und spezielle Übungstechniken erworben haben\, die Einsc
 hätzung des Leistungsvermögens bei Nutzung des eigenen Trockentauchanzuges
  verbessert haben und einen anderen Trockentaucher retten können. https://
 www.uc-baltic.de/veranstaltungen/kalender/ereignis/1656-spezialkurs-trocke
 ntauchen
DTSTART:20250930T220000Z
DTEND:20251030T230000Z
LOCATION:Unterwasserclub Baltic e.V.  (Fahrensodde 20\, 24944 Flensburg)
SUMMARY:Spezialkurs Trockentauchen
URL:https://www.uc-baltic.de/veranstaltungen/kalender/ereignis/1656-spezial
 kurs-trockentauchen
END:VEVENT
END:VCALENDAR
