BEGIN:VCALENDAR
VERSION:2.0
PRODID:-//https://www.uc-baltic.de///NONSGML kigkonsult.se iCalcreator 2.10.15//
METHOD:PUBLISH
BEGIN:VEVENT
UID:20260422T220920CEST-0819AbXvfi@https://www.uc-baltic.de/
DTSTAMP:20260422T200920Z
DESCRIPTION:Treffen und Einlass 18:45 Uhr https://www.uc-baltic.de/veransta
 ltungen/kalender/ereignis/1171-flossenschwimmen-mo-19-20-uhr
DTSTART:20240923T170000Z
DTEND:20240923T180000Z
LOCATION:Campusbad (Thomas-Fincke-Straße 19\, 24943 Flensburg)
SUMMARY:Flossenschwimmen\, Mo 19-20 Uhr
URL:https://www.uc-baltic.de/veranstaltungen/kalender/ereignis/1171-flossen
 schwimmen-mo-19-20-uhr
END:VEVENT
BEGIN:VEVENT
UID:20260422T220920CEST-0822zXXJBG@https://www.uc-baltic.de/
DTSTAMP:20260422T200920Z
DESCRIPTION:Treffen und Einlass 19:45 Uhr https://www.uc-baltic.de/veransta
 ltungen/kalender/ereignis/1178-flossenschwimmen-mo-20-21-uhr
DTSTART:20240923T180000Z
DTEND:20240923T190000Z
LOCATION:Campusbad (Thomas-Fincke-Straße 19\, 24943 Flensburg)
SUMMARY:Flossenschwimmen\, Mo 20-21 Uhr
URL:https://www.uc-baltic.de/veranstaltungen/kalender/ereignis/1178-flossen
 schwimmen-mo-20-21-uhr
END:VEVENT
BEGIN:VEVENT
UID:20260422T220920CEST-0825uzpsz1@https://www.uc-baltic.de/
DTSTAMP:20260422T200920Z
DESCRIPTION:Treffen und Einlass 19:45 Uhr https://www.uc-baltic.de/veransta
 ltungen/kalender/ereignis/1185-uw-rugby-mo-20-21-uhr
DTSTART:20240923T180000Z
DTEND:20240923T190000Z
LOCATION:Campusbad (Thomas-Fincke-Straße 19\, 24943 Flensburg)
SUMMARY:UW-Rugby\, Mo 20-21 Uhr
URL:https://www.uc-baltic.de/veranstaltungen/kalender/ereignis/1185-uw-rugb
 y-mo-20-21-uhr
END:VEVENT
BEGIN:VEVENT
UID:20260422T220920CEST-0827NUPv5w@https://www.uc-baltic.de/
DTSTAMP:20260422T200920Z
DESCRIPTION:Treffen und Einlass 18:45 Uhr https://www.uc-baltic.de/veransta
 ltungen/kalender/ereignis/1192-flossenschwimmen-di-19-20-uhr
DTSTART:20240924T170000Z
DTEND:20240924T180000Z
LOCATION:Campusbad (Thomas-Fincke-Straße 19\, 24943 Flensburg)
SUMMARY:Flossenschwimmen\, Di 19-20 Uhr
URL:https://www.uc-baltic.de/veranstaltungen/kalender/ereignis/1192-flossen
 schwimmen-di-19-20-uhr
END:VEVENT
BEGIN:VEVENT
UID:20260422T220920CEST-0829A8mbUm@https://www.uc-baltic.de/
DTSTAMP:20260422T200920Z
DESCRIPTION:Treffen und Einlass 15:45 Uhr https://www.uc-baltic.de/veransta
 ltungen/kalender/ereignis/1199-flossenschwimmen-do-16-17-uhr
DTSTART:20240926T140000Z
DTEND:20240926T150000Z
LOCATION:Campusbad (Thomas-Fincke-Straße 19\, 24943 Flensburg)
SUMMARY:Flossenschwimmen\, Do 16-17 Uhr
URL:https://www.uc-baltic.de/veranstaltungen/kalender/ereignis/1199-flossen
 schwimmen-do-16-17-uhr
END:VEVENT
BEGIN:VEVENT
UID:20260422T220920CEST-0831smZXjV@https://www.uc-baltic.de/
DTSTAMP:20260422T200920Z
DESCRIPTION:Treffen und Einlass 19:45 Uhr https://www.uc-baltic.de/veransta
 ltungen/kalender/ereignis/1205-flossenschwimmen-fr-20-21-uhr
DTSTART:20240927T180000Z
DTEND:20240927T190000Z
LOCATION:Campusbad (Thomas-Fincke-Straße 19\, 24943 Flensburg)
SUMMARY:Flossenschwimmen\, Fr 20-21 Uhr
URL:https://www.uc-baltic.de/veranstaltungen/kalender/ereignis/1205-flossen
 schwimmen-fr-20-21-uhr
END:VEVENT
END:VCALENDAR
