BEGIN:VCALENDAR
VERSION:2.0
PRODID:-//https://www.uc-baltic.de///NONSGML kigkonsult.se iCalcreator 2.10.15//
METHOD:PUBLISH
BEGIN:VEVENT
UID:20260420T003239CEST-0105CRiUGD@https://www.uc-baltic.de/
DTSTAMP:20260419T223239Z
DESCRIPTION: https://www.uc-baltic.de/veranstaltungen/kalender/ereignis/161
 8-flossenschwimmen-mo-19-00-20-00-uhr
DTSTART:20250922T170000Z
DTEND:20250922T180000Z
LOCATION:Campusbad (Thomas-Fincke-Straße 19\, 24943 Flensburg)
SUMMARY:Flossenschwimmen\, Mo 19:00 - 20:00 Uhr
URL:https://www.uc-baltic.de/veranstaltungen/kalender/ereignis/1618-flossen
 schwimmen-mo-19-00-20-00-uhr
END:VEVENT
BEGIN:VEVENT
UID:20260420T003239CEST-0109F5alWu@https://www.uc-baltic.de/
DTSTAMP:20260419T223239Z
DESCRIPTION: https://www.uc-baltic.de/veranstaltungen/kalender/ereignis/162
 4-flossenschwimmen-mo-20-00-21-00-unr
DTSTART:20250922T180000Z
DTEND:20250922T190000Z
LOCATION:Campusbad (Thomas-Fincke-Straße 19\, 24943 Flensburg)
SUMMARY:Flossenschwimmen\, Mo 20:00 - 21:00 Unr
URL:https://www.uc-baltic.de/veranstaltungen/kalender/ereignis/1624-flossen
 schwimmen-mo-20-00-21-00-unr
END:VEVENT
BEGIN:VEVENT
UID:20260420T003239CEST-0112pCWSup@https://www.uc-baltic.de/
DTSTAMP:20260419T223239Z
DESCRIPTION: https://www.uc-baltic.de/veranstaltungen/kalender/ereignis/163
 0-uw-rugby-mo-20-00-21-00-uhr
DTSTART:20250922T180000Z
DTEND:20250922T190000Z
LOCATION:Campusbad (Thomas-Fincke-Straße 19\, 24943 Flensburg)
SUMMARY:UW-Rugby\, Mo  20:00 - 21:00 Uhr
URL:https://www.uc-baltic.de/veranstaltungen/kalender/ereignis/1630-uw-rugb
 y-mo-20-00-21-00-uhr
END:VEVENT
BEGIN:VEVENT
UID:20260420T003239CEST-0114CDk4BV@https://www.uc-baltic.de/
DTSTAMP:20260419T223239Z
DESCRIPTION: https://www.uc-baltic.de/veranstaltungen/kalender/ereignis/163
 7-flossenschwimmen-di-19-00-20-00-uhr
DTSTART:20250923T170000Z
DTEND:20250923T180000Z
LOCATION:Campusbad (Thomas-Fincke-Straße 19\, 24943 Flensburg)
SUMMARY:Flossenschwimmen\, Di 19:00 - 20:00  Uhr
URL:https://www.uc-baltic.de/veranstaltungen/kalender/ereignis/1637-flossen
 schwimmen-di-19-00-20-00-uhr
END:VEVENT
BEGIN:VEVENT
UID:20260420T003239CEST-0116NGJN8l@https://www.uc-baltic.de/
DTSTAMP:20260419T223239Z
DESCRIPTION: https://www.uc-baltic.de/veranstaltungen/kalender/ereignis/164
 3-flossenschwimmen-do-16-00-17-00-unr
DTSTART:20250925T140000Z
DTEND:20250925T150000Z
LOCATION:Campusbad (Thomas-Fincke-Straße 19\, 24943 Flensburg)
SUMMARY:Flossenschwimmen\, Do 16:00 - 17:00 Unr
URL:https://www.uc-baltic.de/veranstaltungen/kalender/ereignis/1643-flossen
 schwimmen-do-16-00-17-00-unr
END:VEVENT
BEGIN:VEVENT
UID:20260420T003239CEST-0118NPkJxb@https://www.uc-baltic.de/
DTSTAMP:20260419T223239Z
DESCRIPTION: https://www.uc-baltic.de/veranstaltungen/kalender/ereignis/164
 9-flossenschwimmen-fr-20-00-21-00-uhr
DTSTART:20250926T180000Z
DTEND:20250926T190000Z
LOCATION:Campusbad (Thomas-Fincke-Straße 19\, 24943 Flensburg)
SUMMARY:Flossenschwimmen\, Fr 20::00 - 21:00 Uhr
URL:https://www.uc-baltic.de/veranstaltungen/kalender/ereignis/1649-flossen
 schwimmen-fr-20-00-21-00-uhr
END:VEVENT
END:VCALENDAR
