BEGIN:VCALENDAR
VERSION:2.0
PRODID:-//https://www.uc-baltic.de///NONSGML kigkonsult.se iCalcreator 2.10.15//
METHOD:PUBLISH
BEGIN:VEVENT
UID:20260423T193937CEST-8479JmwV5n@https://www.uc-baltic.de/
DTSTAMP:20260423T173937Z
DESCRIPTION: https://www.uc-baltic.de/veranstaltungen/kalender/ereignis/432
 -clubabend
DTSTART:20230922T180000Z
DTEND:20230922T210000Z
LOCATION:Clubheim UC Baltic ()
SUMMARY:Clubabend
URL:https://www.uc-baltic.de/veranstaltungen/kalender/ereignis/432-clubaben
 d
END:VEVENT
END:VCALENDAR
