BEGIN:VCALENDAR
VERSION:2.0
PRODID:-//https://www.uc-baltic.de///NONSGML kigkonsult.se iCalcreator 2.10.15//
METHOD:PUBLISH
BEGIN:VEVENT
UID:20260422T220921CEST-1040vxZna4@https://www.uc-baltic.de/
DTSTAMP:20260422T200921Z
DESCRIPTION: https://www.uc-baltic.de/veranstaltungen/kalender/ereignis/102
 2-clubabend
DTSTART:20240920T170000Z
DTEND:20240920T215900Z
LOCATION:Clubheim UC Baltic ()
SUMMARY:Clubabend
URL:https://www.uc-baltic.de/veranstaltungen/kalender/ereignis/1022-clubabe
 nd
END:VEVENT
BEGIN:VEVENT
UID:20260422T220921CEST-1042WZPVut@https://www.uc-baltic.de/
DTSTAMP:20260422T200921Z
DESCRIPTION:Treffen und Einlass 18:45 Uhr https://www.uc-baltic.de/veransta
 ltungen/kalender/ereignis/1170-flossenschwimmen-mo-19-20-uhr
DTSTART:20240916T170000Z
DTEND:20240916T180000Z
LOCATION:Campusbad (Thomas-Fincke-Straße 19\, 24943 Flensburg)
SUMMARY:Flossenschwimmen\, Mo 19-20 Uhr
URL:https://www.uc-baltic.de/veranstaltungen/kalender/ereignis/1170-flossen
 schwimmen-mo-19-20-uhr
END:VEVENT
BEGIN:VEVENT
UID:20260422T220921CEST-10440O1KMi@https://www.uc-baltic.de/
DTSTAMP:20260422T200921Z
DESCRIPTION:Treffen und Einlass 19:45 Uhr https://www.uc-baltic.de/veransta
 ltungen/kalender/ereignis/1177-flossenschwimmen-mo-20-21-uhr
DTSTART:20240916T180000Z
DTEND:20240916T190000Z
LOCATION:Campusbad (Thomas-Fincke-Straße 19\, 24943 Flensburg)
SUMMARY:Flossenschwimmen\, Mo 20-21 Uhr
URL:https://www.uc-baltic.de/veranstaltungen/kalender/ereignis/1177-flossen
 schwimmen-mo-20-21-uhr
END:VEVENT
BEGIN:VEVENT
UID:20260422T220921CEST-1045uB46kX@https://www.uc-baltic.de/
DTSTAMP:20260422T200921Z
DESCRIPTION:Treffen und Einlass 19:45 Uhr https://www.uc-baltic.de/veransta
 ltungen/kalender/ereignis/1184-uw-rugby-mo-20-21-uhr
DTSTART:20240916T180000Z
DTEND:20240916T190000Z
LOCATION:Campusbad (Thomas-Fincke-Straße 19\, 24943 Flensburg)
SUMMARY:UW-Rugby\, Mo 20-21 Uhr
URL:https://www.uc-baltic.de/veranstaltungen/kalender/ereignis/1184-uw-rugb
 y-mo-20-21-uhr
END:VEVENT
BEGIN:VEVENT
UID:20260422T220921CEST-1047am8gPr@https://www.uc-baltic.de/
DTSTAMP:20260422T200921Z
DESCRIPTION:Treffen und Einlass 18:45 Uhr https://www.uc-baltic.de/veransta
 ltungen/kalender/ereignis/1191-flossenschwimmen-di-19-20-uhr
DTSTART:20240917T170000Z
DTEND:20240917T180000Z
LOCATION:Campusbad (Thomas-Fincke-Straße 19\, 24943 Flensburg)
SUMMARY:Flossenschwimmen\, Di 19-20 Uhr
URL:https://www.uc-baltic.de/veranstaltungen/kalender/ereignis/1191-flossen
 schwimmen-di-19-20-uhr
END:VEVENT
BEGIN:VEVENT
UID:20260422T220921CEST-1049F8dfT6@https://www.uc-baltic.de/
DTSTAMP:20260422T200921Z
DESCRIPTION:Treffen und Einlass 15:45 Uhr https://www.uc-baltic.de/veransta
 ltungen/kalender/ereignis/1198-flossenschwimmen-do-16-17-uhr
DTSTART:20240919T140000Z
DTEND:20240919T150000Z
LOCATION:Campusbad (Thomas-Fincke-Straße 19\, 24943 Flensburg)
SUMMARY:Flossenschwimmen\, Do 16-17 Uhr
URL:https://www.uc-baltic.de/veranstaltungen/kalender/ereignis/1198-flossen
 schwimmen-do-16-17-uhr
END:VEVENT
BEGIN:VEVENT
UID:20260422T220921CEST-1050EAm7Wj@https://www.uc-baltic.de/
DTSTAMP:20260422T200921Z
DESCRIPTION:Treffen und Einlass 19:45 Uhr https://www.uc-baltic.de/veransta
 ltungen/kalender/ereignis/1204-flossenschwimmen-fr-20-21-uhr
DTSTART:20240920T180000Z
DTEND:20240920T190000Z
LOCATION:Campusbad (Thomas-Fincke-Straße 19\, 24943 Flensburg)
SUMMARY:Flossenschwimmen\, Fr 20-21 Uhr
URL:https://www.uc-baltic.de/veranstaltungen/kalender/ereignis/1204-flossen
 schwimmen-fr-20-21-uhr
END:VEVENT
END:VCALENDAR
