BEGIN:VCALENDAR
VERSION:2.0
PRODID:-//https://www.uc-baltic.de///NONSGML kigkonsult.se iCalcreator 2.10.15//
METHOD:PUBLISH
BEGIN:VEVENT
UID:20260420T003238CEST-8758uNucvv@https://www.uc-baltic.de/
DTSTAMP:20260419T223238Z
DESCRIPTION: https://www.uc-baltic.de/veranstaltungen/kalender/ereignis/130
 9-clubabend
DTSTART:20250919T170000Z
DTEND:20250919T215900Z
LOCATION:Unterwasserclub Baltic e.V.  (Fahrensodde 20\, 24944 Flensburg)
SUMMARY:Clubabend
URL:https://www.uc-baltic.de/veranstaltungen/kalender/ereignis/1309-clubabe
 nd
END:VEVENT
BEGIN:VEVENT
UID:20260420T003238CEST-8761eBIzk5@https://www.uc-baltic.de/
DTSTAMP:20260419T223238Z
DESCRIPTION: https://www.uc-baltic.de/veranstaltungen/kalender/ereignis/161
 4-private-veranstaltung
DTSTART;VALUE=DATE:20250919
LOCATION:Unterwasserclub Baltic e.V.  (Fahrensodde 20\, 24944 Flensburg)
SUMMARY:Private Veranstaltung
URL:https://www.uc-baltic.de/veranstaltungen/kalender/ereignis/1614-private
 -veranstaltung
END:VEVENT
BEGIN:VEVENT
UID:20260420T003238CEST-8764dRHauv@https://www.uc-baltic.de/
DTSTAMP:20260419T223238Z
DESCRIPTION: https://www.uc-baltic.de/veranstaltungen/kalender/ereignis/161
 7-flossenschwimmen-mo-19-00-20-00-uhr
DTSTART:20250915T170000Z
DTEND:20250915T180000Z
LOCATION:Campusbad (Thomas-Fincke-Straße 19\, 24943 Flensburg)
SUMMARY:Flossenschwimmen\, Mo 19:00 - 20:00 Uhr
URL:https://www.uc-baltic.de/veranstaltungen/kalender/ereignis/1617-flossen
 schwimmen-mo-19-00-20-00-uhr
END:VEVENT
BEGIN:VEVENT
UID:20260420T003238CEST-8767jtBN6o@https://www.uc-baltic.de/
DTSTAMP:20260419T223238Z
DESCRIPTION: https://www.uc-baltic.de/veranstaltungen/kalender/ereignis/162
 3-flossenschwimmen-mo-20-00-21-00-unr
DTSTART:20250915T180000Z
DTEND:20250915T190000Z
LOCATION:Campusbad (Thomas-Fincke-Straße 19\, 24943 Flensburg)
SUMMARY:Flossenschwimmen\, Mo 20:00 - 21:00 Unr
URL:https://www.uc-baltic.de/veranstaltungen/kalender/ereignis/1623-flossen
 schwimmen-mo-20-00-21-00-unr
END:VEVENT
BEGIN:VEVENT
UID:20260420T003238CEST-8770DvvrfR@https://www.uc-baltic.de/
DTSTAMP:20260419T223238Z
DESCRIPTION: https://www.uc-baltic.de/veranstaltungen/kalender/ereignis/162
 9-uw-rugby-mo-20-00-21-00-uhr
DTSTART:20250915T180000Z
DTEND:20250915T190000Z
LOCATION:Campusbad (Thomas-Fincke-Straße 19\, 24943 Flensburg)
SUMMARY:UW-Rugby\, Mo  20:00 - 21:00 Uhr
URL:https://www.uc-baltic.de/veranstaltungen/kalender/ereignis/1629-uw-rugb
 y-mo-20-00-21-00-uhr
END:VEVENT
BEGIN:VEVENT
UID:20260420T003238CEST-8773RhVV1a@https://www.uc-baltic.de/
DTSTAMP:20260419T223238Z
DESCRIPTION: https://www.uc-baltic.de/veranstaltungen/kalender/ereignis/163
 6-flossenschwimmen-di-19-00-20-00-uhr
DTSTART:20250916T170000Z
DTEND:20250916T180000Z
LOCATION:Campusbad (Thomas-Fincke-Straße 19\, 24943 Flensburg)
SUMMARY:Flossenschwimmen\, Di 19:00 - 20:00  Uhr
URL:https://www.uc-baltic.de/veranstaltungen/kalender/ereignis/1636-flossen
 schwimmen-di-19-00-20-00-uhr
END:VEVENT
BEGIN:VEVENT
UID:20260420T003238CEST-8776jXKXTN@https://www.uc-baltic.de/
DTSTAMP:20260419T223238Z
DESCRIPTION: https://www.uc-baltic.de/veranstaltungen/kalender/ereignis/164
 2-flossenschwimmen-do-16-00-17-00-unr
DTSTART:20250918T140000Z
DTEND:20250918T150000Z
LOCATION:Campusbad (Thomas-Fincke-Straße 19\, 24943 Flensburg)
SUMMARY:Flossenschwimmen\, Do 16:00 - 17:00 Unr
URL:https://www.uc-baltic.de/veranstaltungen/kalender/ereignis/1642-flossen
 schwimmen-do-16-00-17-00-unr
END:VEVENT
BEGIN:VEVENT
UID:20260420T003238CEST-8778Mt72kV@https://www.uc-baltic.de/
DTSTAMP:20260419T223238Z
DESCRIPTION: https://www.uc-baltic.de/veranstaltungen/kalender/ereignis/164
 8-flossenschwimmen-fr-20-00-21-00-uhr
DTSTART:20250919T180000Z
DTEND:20250919T190000Z
LOCATION:Campusbad (Thomas-Fincke-Straße 19\, 24943 Flensburg)
SUMMARY:Flossenschwimmen\, Fr 20::00 - 21:00 Uhr
URL:https://www.uc-baltic.de/veranstaltungen/kalender/ereignis/1648-flossen
 schwimmen-fr-20-00-21-00-uhr
END:VEVENT
END:VCALENDAR
