BEGIN:VCALENDAR
VERSION:2.0
PRODID:-//https://www.uc-baltic.de///NONSGML kigkonsult.se iCalcreator 2.10.15//
METHOD:PUBLISH
BEGIN:VEVENT
UID:20260420T003239CEST-2576bZ2shs@https://www.uc-baltic.de/
DTSTAMP:20260419T223239Z
DESCRIPTION: https://www.uc-baltic.de/veranstaltungen/kalender/ereignis/161
 6-flossenschwimmen-mo-19-00-20-00-uhr
DTSTART:20250908T170000Z
DTEND:20250908T180000Z
LOCATION:Campusbad (Thomas-Fincke-Straße 19\, 24943 Flensburg)
SUMMARY:Flossenschwimmen\, Mo 19:00 - 20:00 Uhr
URL:https://www.uc-baltic.de/veranstaltungen/kalender/ereignis/1616-flossen
 schwimmen-mo-19-00-20-00-uhr
END:VEVENT
BEGIN:VEVENT
UID:20260420T003239CEST-2579k0en86@https://www.uc-baltic.de/
DTSTAMP:20260419T223239Z
DESCRIPTION: https://www.uc-baltic.de/veranstaltungen/kalender/ereignis/162
 2-flossenschwimmen-mo-20-00-21-00-unr
DTSTART:20250908T180000Z
DTEND:20250908T190000Z
LOCATION:Campusbad (Thomas-Fincke-Straße 19\, 24943 Flensburg)
SUMMARY:Flossenschwimmen\, Mo 20:00 - 21:00 Unr
URL:https://www.uc-baltic.de/veranstaltungen/kalender/ereignis/1622-flossen
 schwimmen-mo-20-00-21-00-unr
END:VEVENT
BEGIN:VEVENT
UID:20260420T003239CEST-2582fRM14x@https://www.uc-baltic.de/
DTSTAMP:20260419T223239Z
DESCRIPTION: https://www.uc-baltic.de/veranstaltungen/kalender/ereignis/162
 8-uw-rugby-mo-20-00-21-00-uhr
DTSTART:20250908T180000Z
DTEND:20250908T190000Z
LOCATION:Campusbad (Thomas-Fincke-Straße 19\, 24943 Flensburg)
SUMMARY:UW-Rugby\, Mo  20:00 - 21:00 Uhr
URL:https://www.uc-baltic.de/veranstaltungen/kalender/ereignis/1628-uw-rugb
 y-mo-20-00-21-00-uhr
END:VEVENT
BEGIN:VEVENT
UID:20260420T003239CEST-2584Nt52wa@https://www.uc-baltic.de/
DTSTAMP:20260419T223239Z
DESCRIPTION: https://www.uc-baltic.de/veranstaltungen/kalender/ereignis/163
 5-flossenschwimmen-di-19-00-20-00-uhr
DTSTART:20250909T170000Z
DTEND:20250909T180000Z
LOCATION:Campusbad (Thomas-Fincke-Straße 19\, 24943 Flensburg)
SUMMARY:Flossenschwimmen\, Di 19:00 - 20:00  Uhr
URL:https://www.uc-baltic.de/veranstaltungen/kalender/ereignis/1635-flossen
 schwimmen-di-19-00-20-00-uhr
END:VEVENT
BEGIN:VEVENT
UID:20260420T003239CEST-25875iIJup@https://www.uc-baltic.de/
DTSTAMP:20260419T223239Z
DESCRIPTION: https://www.uc-baltic.de/veranstaltungen/kalender/ereignis/164
 1-flossenschwimmen-do-16-00-17-00-unr
DTSTART:20250911T140000Z
DTEND:20250911T150000Z
LOCATION:Campusbad (Thomas-Fincke-Straße 19\, 24943 Flensburg)
SUMMARY:Flossenschwimmen\, Do 16:00 - 17:00 Unr
URL:https://www.uc-baltic.de/veranstaltungen/kalender/ereignis/1641-flossen
 schwimmen-do-16-00-17-00-unr
END:VEVENT
BEGIN:VEVENT
UID:20260420T003239CEST-25894CUUZ7@https://www.uc-baltic.de/
DTSTAMP:20260419T223239Z
DESCRIPTION: https://www.uc-baltic.de/veranstaltungen/kalender/ereignis/164
 7-flossenschwimmen-fr-20-00-21-00-uhr
DTSTART:20250912T180000Z
DTEND:20250912T190000Z
LOCATION:Campusbad (Thomas-Fincke-Straße 19\, 24943 Flensburg)
SUMMARY:Flossenschwimmen\, Fr 20::00 - 21:00 Uhr
URL:https://www.uc-baltic.de/veranstaltungen/kalender/ereignis/1647-flossen
 schwimmen-fr-20-00-21-00-uhr
END:VEVENT
END:VCALENDAR
