BEGIN:VCALENDAR
VERSION:2.0
PRODID:-//https://www.uc-baltic.de///NONSGML kigkonsult.se iCalcreator 2.10.15//
METHOD:PUBLISH
BEGIN:VEVENT
UID:20260423T193757CEST-9885ScU2wW@https://www.uc-baltic.de/
DTSTAMP:20260423T173757Z
DESCRIPTION: https://www.uc-baltic.de/veranstaltungen/kalender/ereignis/433
 -clubabend
DTSTART:20230908T180000Z
DTEND:20230908T210000Z
LOCATION:Clubheim UC Baltic ()
SUMMARY:Clubabend
URL:https://www.uc-baltic.de/veranstaltungen/kalender/ereignis/433-clubaben
 d
END:VEVENT
END:VCALENDAR
