BEGIN:VCALENDAR
VERSION:2.0
PRODID:-//https://www.uc-baltic.de///NONSGML kigkonsult.se iCalcreator 2.10.15//
METHOD:PUBLISH
BEGIN:VEVENT
UID:20260422T220908CEST-0203ZrfmkJ@https://www.uc-baltic.de/
DTSTAMP:20260422T200908Z
DESCRIPTION: https://www.uc-baltic.de/veranstaltungen/kalender/ereignis/102
 0-clubabend
DTSTART:20240906T170000Z
DTEND:20240906T215900Z
LOCATION:Clubheim UC Baltic ()
SUMMARY:Clubabend
URL:https://www.uc-baltic.de/veranstaltungen/kalender/ereignis/1020-clubabe
 nd
END:VEVENT
BEGIN:VEVENT
UID:20260422T220908CEST-02063VGBbV@https://www.uc-baltic.de/
DTSTAMP:20260422T200908Z
DESCRIPTION:Treffen und Einlass 18:45 Uhr https://www.uc-baltic.de/veransta
 ltungen/kalender/ereignis/1168-flossenschwimmen-mo-19-20-uhr
DTSTART:20240902T170000Z
DTEND:20240902T180000Z
LOCATION:Campusbad (Thomas-Fincke-Straße 19\, 24943 Flensburg)
SUMMARY:Flossenschwimmen\, Mo 19-20 Uhr
URL:https://www.uc-baltic.de/veranstaltungen/kalender/ereignis/1168-flossen
 schwimmen-mo-19-20-uhr
END:VEVENT
BEGIN:VEVENT
UID:20260422T220908CEST-0209jUgzTN@https://www.uc-baltic.de/
DTSTAMP:20260422T200908Z
DESCRIPTION:Treffen und Einlass 19:45 Uhr https://www.uc-baltic.de/veransta
 ltungen/kalender/ereignis/1175-flossenschwimmen-mo-20-21-uhr
DTSTART:20240902T180000Z
DTEND:20240902T190000Z
LOCATION:Campusbad (Thomas-Fincke-Straße 19\, 24943 Flensburg)
SUMMARY:Flossenschwimmen\, Mo 20-21 Uhr
URL:https://www.uc-baltic.de/veranstaltungen/kalender/ereignis/1175-flossen
 schwimmen-mo-20-21-uhr
END:VEVENT
BEGIN:VEVENT
UID:20260422T220908CEST-0211sVD54D@https://www.uc-baltic.de/
DTSTAMP:20260422T200908Z
DESCRIPTION:Treffen und Einlass 19:45 Uhr https://www.uc-baltic.de/veransta
 ltungen/kalender/ereignis/1182-uw-rugby-mo-20-21-uhr
DTSTART:20240902T180000Z
DTEND:20240902T190000Z
LOCATION:Campusbad (Thomas-Fincke-Straße 19\, 24943 Flensburg)
SUMMARY:UW-Rugby\, Mo 20-21 Uhr
URL:https://www.uc-baltic.de/veranstaltungen/kalender/ereignis/1182-uw-rugb
 y-mo-20-21-uhr
END:VEVENT
BEGIN:VEVENT
UID:20260422T220908CEST-0213msOlZl@https://www.uc-baltic.de/
DTSTAMP:20260422T200908Z
DESCRIPTION:Treffen und Einlass 18:45 Uhr https://www.uc-baltic.de/veransta
 ltungen/kalender/ereignis/1189-flossenschwimmen-di-19-20-uhr
DTSTART:20240903T170000Z
DTEND:20240903T180000Z
LOCATION:Campusbad (Thomas-Fincke-Straße 19\, 24943 Flensburg)
SUMMARY:Flossenschwimmen\, Di 19-20 Uhr
URL:https://www.uc-baltic.de/veranstaltungen/kalender/ereignis/1189-flossen
 schwimmen-di-19-20-uhr
END:VEVENT
BEGIN:VEVENT
UID:20260422T220908CEST-0215X6g2O0@https://www.uc-baltic.de/
DTSTAMP:20260422T200908Z
DESCRIPTION:Treffen und Einlass 15:45 Uhr https://www.uc-baltic.de/veransta
 ltungen/kalender/ereignis/1196-flossenschwimmen-do-16-17-uhr
DTSTART:20240905T140000Z
DTEND:20240905T150000Z
LOCATION:Campusbad (Thomas-Fincke-Straße 19\, 24943 Flensburg)
SUMMARY:Flossenschwimmen\, Do 16-17 Uhr
URL:https://www.uc-baltic.de/veranstaltungen/kalender/ereignis/1196-flossen
 schwimmen-do-16-17-uhr
END:VEVENT
BEGIN:VEVENT
UID:20260422T220908CEST-02177VRuLh@https://www.uc-baltic.de/
DTSTAMP:20260422T200908Z
DESCRIPTION:Treffen und Einlass 19:45 Uhr https://www.uc-baltic.de/veransta
 ltungen/kalender/ereignis/1202-flossenschwimmen-fr-20-21-uhr
DTSTART:20240906T180000Z
DTEND:20240906T190000Z
LOCATION:Campusbad (Thomas-Fincke-Straße 19\, 24943 Flensburg)
SUMMARY:Flossenschwimmen\, Fr 20-21 Uhr
URL:https://www.uc-baltic.de/veranstaltungen/kalender/ereignis/1202-flossen
 schwimmen-fr-20-21-uhr
END:VEVENT
END:VCALENDAR
