BEGIN:VCALENDAR
VERSION:2.0
PRODID:-//https://www.uc-baltic.de///NONSGML kigkonsult.se iCalcreator 2.10.15//
METHOD:PUBLISH
BEGIN:VEVENT
UID:20260420T003239CEST-4062noVwKa@https://www.uc-baltic.de/
DTSTAMP:20260419T223239Z
DESCRIPTION: https://www.uc-baltic.de/veranstaltungen/kalender/ereignis/130
 8-clubabend
DTSTART:20250905T170000Z
DTEND:20250905T215900Z
LOCATION:Unterwasserclub Baltic e.V.  (Fahrensodde 20\, 24944 Flensburg)
SUMMARY:Clubabend
URL:https://www.uc-baltic.de/veranstaltungen/kalender/ereignis/1308-clubabe
 nd
END:VEVENT
BEGIN:VEVENT
UID:20260420T003239CEST-4064v83DfO@https://www.uc-baltic.de/
DTSTAMP:20260419T223239Z
DESCRIPTION: https://www.uc-baltic.de/veranstaltungen/kalender/ereignis/160
 4-flossenschwimmen-mo-19-00-20-00-uhr-bahn-1-2-und-3-im-tiefen-bereich
DTSTART:20250901T170000Z
DTEND:20250901T180000Z
LOCATION:Campusbad (Thomas-Fincke-Straße 19\, 24943 Flensburg)
SUMMARY:Flossenschwimmen\, Mo 19:00 - 20:00 Uhr\; Bahn 1\, 2 und 3 im tiefe
 n Bereich
URL:https://www.uc-baltic.de/veranstaltungen/kalender/ereignis/1604-flossen
 schwimmen-mo-19-00-20-00-uhr-bahn-1-2-und-3-im-tiefen-bereich
END:VEVENT
BEGIN:VEVENT
UID:20260420T003239CEST-4066kbRxFO@https://www.uc-baltic.de/
DTSTAMP:20260419T223239Z
DESCRIPTION: https://www.uc-baltic.de/veranstaltungen/kalender/ereignis/160
 9-flossenschwimmen-do-16-00-17-00-unr-bahn-5-im-flachen-bereich
DTSTART:20250904T140000Z
DTEND:20250904T150000Z
LOCATION:Campusbad (Thomas-Fincke-Straße 19\, 24943 Flensburg)
SUMMARY:Flossenschwimmen\, Do 16:00 - 17:00 Unr\, Bahn 5 im flachen Bereich
URL:https://www.uc-baltic.de/veranstaltungen/kalender/ereignis/1609-flossen
 schwimmen-do-16-00-17-00-unr-bahn-5-im-flachen-bereich
END:VEVENT
END:VCALENDAR
