BEGIN:VCALENDAR
VERSION:2.0
PRODID:-//https://www.uc-baltic.de///NONSGML kigkonsult.se iCalcreator 2.10.15//
METHOD:PUBLISH
BEGIN:VEVENT
UID:20260422T220920CEST-5806uHZHk6@https://www.uc-baltic.de/
DTSTAMP:20260422T200920Z
DESCRIPTION: https://www.uc-baltic.de/veranstaltungen/kalender/ereignis/112
 9-flossenschwimmen-mo-19-20-uhr
DTSTART:20240826T170000Z
DTEND:20240826T180000Z
LOCATION:Campusbad (Thomas-Fincke-Straße 19\, 24943 Flensburg)
SUMMARY:Flossenschwimmen\, Mo 19 - 20 Uhr
URL:https://www.uc-baltic.de/veranstaltungen/kalender/ereignis/1129-flossen
 schwimmen-mo-19-20-uhr
END:VEVENT
BEGIN:VEVENT
UID:20260422T220920CEST-58092uRwEt@https://www.uc-baltic.de/
DTSTAMP:20260422T200920Z
DESCRIPTION: https://www.uc-baltic.de/veranstaltungen/kalender/ereignis/113
 4-flossenschwimmen-mo-20-21-uhr
DTSTART:20240826T180000Z
DTEND:20240826T190000Z
LOCATION:Campusbad (Thomas-Fincke-Straße 19\, 24943 Flensburg)
SUMMARY:Flossenschwimmen\, Mo 20 - 21 Uhr
URL:https://www.uc-baltic.de/veranstaltungen/kalender/ereignis/1134-flossen
 schwimmen-mo-20-21-uhr
END:VEVENT
BEGIN:VEVENT
UID:20260422T220920CEST-5811wkP5N5@https://www.uc-baltic.de/
DTSTAMP:20260422T200920Z
DESCRIPTION: https://www.uc-baltic.de/veranstaltungen/kalender/ereignis/113
 9-uw-rugby-mo-20-21-uhr
DTSTART:20240826T180000Z
DTEND:20240826T190000Z
LOCATION:Campusbad (Thomas-Fincke-Straße 19\, 24943 Flensburg)
SUMMARY:UW-Rugby\, Mo 20 - 21 Uhr
URL:https://www.uc-baltic.de/veranstaltungen/kalender/ereignis/1139-uw-rugb
 y-mo-20-21-uhr
END:VEVENT
BEGIN:VEVENT
UID:20260422T220920CEST-5813Tap7TA@https://www.uc-baltic.de/
DTSTAMP:20260422T200920Z
DESCRIPTION: https://www.uc-baltic.de/veranstaltungen/kalender/ereignis/114
 4-flossenschwimmen-di-19-20-uhr-bahn-8-tiefer-bereich
DTSTART:20240827T170000Z
DTEND:20240827T180000Z
LOCATION:Campusbad (Thomas-Fincke-Straße 19\, 24943 Flensburg)
SUMMARY:Flossenschwimmen\, Di 19 - 20 Uhr\, Bahn 8\, tiefer Bereich
URL:https://www.uc-baltic.de/veranstaltungen/kalender/ereignis/1144-flossen
 schwimmen-di-19-20-uhr-bahn-8-tiefer-bereich
END:VEVENT
BEGIN:VEVENT
UID:20260422T220920CEST-58155F3V8U@https://www.uc-baltic.de/
DTSTAMP:20260422T200920Z
DESCRIPTION: https://www.uc-baltic.de/veranstaltungen/kalender/ereignis/115
 1-flossenschwimmen-do-16-17-uhr-bahn-8-tiefer-bereich
DTSTART:20240829T140000Z
DTEND:20240829T150000Z
LOCATION:Campusbad (Thomas-Fincke-Straße 19\, 24943 Flensburg)
SUMMARY:Flossenschwimmen\, Do 16 - 17 Uhr\, Bahn 8*\, tiefer Bereich
URL:https://www.uc-baltic.de/veranstaltungen/kalender/ereignis/1151-flossen
 schwimmen-do-16-17-uhr-bahn-8-tiefer-bereich
END:VEVENT
END:VCALENDAR
