BEGIN:VCALENDAR
VERSION:2.0
PRODID:-//https://www.uc-baltic.de///NONSGML kigkonsult.se iCalcreator 2.10.15//
METHOD:PUBLISH
BEGIN:VEVENT
UID:20260420T035608CEST-1807V4CMiA@https://www.uc-baltic.de/
DTSTAMP:20260420T015608Z
DESCRIPTION: https://www.uc-baltic.de/veranstaltungen/kalender/ereignis/160
 3-flossenschwimmen-mo-19-00-20-00-uhr-bahn-1-2-und-3-im-tiefen-bereich
DTSTART:20250825T170000Z
DTEND:20250825T180000Z
LOCATION:Campusbad (Thomas-Fincke-Straße 19\, 24943 Flensburg)
SUMMARY:Flossenschwimmen\, Mo 19:00 - 20:00 Uhr\; Bahn 1\, 2 und 3 im tiefe
 n Bereich
URL:https://www.uc-baltic.de/veranstaltungen/kalender/ereignis/1603-flossen
 schwimmen-mo-19-00-20-00-uhr-bahn-1-2-und-3-im-tiefen-bereich
END:VEVENT
BEGIN:VEVENT
UID:20260420T035608CEST-1810VeeR3U@https://www.uc-baltic.de/
DTSTAMP:20260420T015608Z
DESCRIPTION: https://www.uc-baltic.de/veranstaltungen/kalender/ereignis/160
 8-flossenschwimmen-do-16-00-17-00-unr-bahn-5-im-flachen-bereich
DTSTART:20250828T140000Z
DTEND:20250828T150000Z
LOCATION:Campusbad (Thomas-Fincke-Straße 19\, 24943 Flensburg)
SUMMARY:Flossenschwimmen\, Do 16:00 - 17:00 Unr\, Bahn 5 im flachen Bereich
URL:https://www.uc-baltic.de/veranstaltungen/kalender/ereignis/1608-flossen
 schwimmen-do-16-00-17-00-unr-bahn-5-im-flachen-bereich
END:VEVENT
END:VCALENDAR
