BEGIN:VCALENDAR
VERSION:2.0
PRODID:-//https://www.uc-baltic.de///NONSGML kigkonsult.se iCalcreator 2.10.15//
METHOD:PUBLISH
BEGIN:VEVENT
UID:20260423T211446CEST-93066VmM8N@https://www.uc-baltic.de/
DTSTAMP:20260423T191446Z
DESCRIPTION: https://www.uc-baltic.de/veranstaltungen/kalender/ereignis/434
 -clubabend
DTSTART:20230825T180000Z
DTEND:20230825T210000Z
LOCATION:Clubheim UC Baltic ()
SUMMARY:Clubabend
URL:https://www.uc-baltic.de/veranstaltungen/kalender/ereignis/434-clubaben
 d
END:VEVENT
END:VCALENDAR
