BEGIN:VCALENDAR
VERSION:2.0
PRODID:-//https://www.uc-baltic.de///NONSGML kigkonsult.se iCalcreator 2.10.15//
METHOD:PUBLISH
BEGIN:VEVENT
UID:20260422T235449CEST-1673VttueW@https://www.uc-baltic.de/
DTSTAMP:20260422T215449Z
DESCRIPTION: https://www.uc-baltic.de/veranstaltungen/kalender/ereignis/101
 8-clubabend
DTSTART:20240823T170000Z
DTEND:20240823T215900Z
LOCATION:Clubheim UC Baltic ()
SUMMARY:Clubabend
URL:https://www.uc-baltic.de/veranstaltungen/kalender/ereignis/1018-clubabe
 nd
END:VEVENT
BEGIN:VEVENT
UID:20260422T235449CEST-1676ssESPp@https://www.uc-baltic.de/
DTSTAMP:20260422T215449Z
DESCRIPTION: https://www.uc-baltic.de/veranstaltungen/kalender/ereignis/112
 8-flossenschwimmen-mo-19-20-uhr
DTSTART:20240819T170000Z
DTEND:20240819T180000Z
LOCATION:Campusbad (Thomas-Fincke-Straße 19\, 24943 Flensburg)
SUMMARY:Flossenschwimmen\, Mo 19 - 20 Uhr
URL:https://www.uc-baltic.de/veranstaltungen/kalender/ereignis/1128-flossen
 schwimmen-mo-19-20-uhr
END:VEVENT
BEGIN:VEVENT
UID:20260422T235449CEST-16797H4gmd@https://www.uc-baltic.de/
DTSTAMP:20260422T215449Z
DESCRIPTION: https://www.uc-baltic.de/veranstaltungen/kalender/ereignis/113
 3-flossenschwimmen-mo-20-21-uhr
DTSTART:20240819T180000Z
DTEND:20240819T190000Z
LOCATION:Campusbad (Thomas-Fincke-Straße 19\, 24943 Flensburg)
SUMMARY:Flossenschwimmen\, Mo 20 - 21 Uhr
URL:https://www.uc-baltic.de/veranstaltungen/kalender/ereignis/1133-flossen
 schwimmen-mo-20-21-uhr
END:VEVENT
BEGIN:VEVENT
UID:20260422T235449CEST-1681vhCIDR@https://www.uc-baltic.de/
DTSTAMP:20260422T215449Z
DESCRIPTION: https://www.uc-baltic.de/veranstaltungen/kalender/ereignis/113
 8-uw-rugby-mo-20-21-uhr
DTSTART:20240819T180000Z
DTEND:20240819T190000Z
LOCATION:Campusbad (Thomas-Fincke-Straße 19\, 24943 Flensburg)
SUMMARY:UW-Rugby\, Mo 20 - 21 Uhr
URL:https://www.uc-baltic.de/veranstaltungen/kalender/ereignis/1138-uw-rugb
 y-mo-20-21-uhr
END:VEVENT
BEGIN:VEVENT
UID:20260422T235449CEST-1684xvdH7z@https://www.uc-baltic.de/
DTSTAMP:20260422T215449Z
DESCRIPTION: https://www.uc-baltic.de/veranstaltungen/kalender/ereignis/114
 3-flossenschwimmen-di-19-20-uhr-bahn-8-tiefer-bereich
DTSTART:20240820T170000Z
DTEND:20240820T180000Z
LOCATION:Campusbad (Thomas-Fincke-Straße 19\, 24943 Flensburg)
SUMMARY:Flossenschwimmen\, Di 19 - 20 Uhr\, Bahn 8\, tiefer Bereich
URL:https://www.uc-baltic.de/veranstaltungen/kalender/ereignis/1143-flossen
 schwimmen-di-19-20-uhr-bahn-8-tiefer-bereich
END:VEVENT
BEGIN:VEVENT
UID:20260422T235449CEST-1686kch9rW@https://www.uc-baltic.de/
DTSTAMP:20260422T215449Z
DESCRIPTION: https://www.uc-baltic.de/veranstaltungen/kalender/ereignis/115
 0-flossenschwimmen-do-16-17-uhr-bahn-8-tiefer-bereich
DTSTART:20240822T140000Z
DTEND:20240822T150000Z
LOCATION:Campusbad (Thomas-Fincke-Straße 19\, 24943 Flensburg)
SUMMARY:Flossenschwimmen\, Do 16 - 17 Uhr\, Bahn 8*\, tiefer Bereich
URL:https://www.uc-baltic.de/veranstaltungen/kalender/ereignis/1150-flossen
 schwimmen-do-16-17-uhr-bahn-8-tiefer-bereich
END:VEVENT
END:VCALENDAR
