BEGIN:VCALENDAR
VERSION:2.0
PRODID:-//https://www.uc-baltic.de///NONSGML kigkonsult.se iCalcreator 2.10.15//
METHOD:PUBLISH
BEGIN:VEVENT
UID:20260420T021949CEST-1783Td8zpF@https://www.uc-baltic.de/
DTSTAMP:20260420T001949Z
DESCRIPTION: https://www.uc-baltic.de/veranstaltungen/kalender/ereignis/130
 7-clubabend
DTSTART:20250822T170000Z
DTEND:20250822T215900Z
LOCATION:Unterwasserclub Baltic e.V.  (Fahrensodde 20\, 24944 Flensburg)
SUMMARY:Clubabend
URL:https://www.uc-baltic.de/veranstaltungen/kalender/ereignis/1307-clubabe
 nd
END:VEVENT
BEGIN:VEVENT
UID:20260420T021949CEST-1787CfGVJP@https://www.uc-baltic.de/
DTSTAMP:20260420T001949Z
DESCRIPTION: https://www.uc-baltic.de/veranstaltungen/kalender/ereignis/160
 2-flossenschwimmen-mo-19-00-20-00-uhr-bahn-1-2-und-3-im-tiefen-bereich
DTSTART:20250818T170000Z
DTEND:20250818T180000Z
LOCATION:Campusbad (Thomas-Fincke-Straße 19\, 24943 Flensburg)
SUMMARY:Flossenschwimmen\, Mo 19:00 - 20:00 Uhr\; Bahn 1\, 2 und 3 im tiefe
 n Bereich
URL:https://www.uc-baltic.de/veranstaltungen/kalender/ereignis/1602-flossen
 schwimmen-mo-19-00-20-00-uhr-bahn-1-2-und-3-im-tiefen-bereich
END:VEVENT
BEGIN:VEVENT
UID:20260420T021949CEST-1790uEUMG0@https://www.uc-baltic.de/
DTSTAMP:20260420T001949Z
DESCRIPTION: https://www.uc-baltic.de/veranstaltungen/kalender/ereignis/160
 7-flossenschwimmen-do-16-00-17-00-unr-bahn-5-im-flachen-bereich
DTSTART:20250821T140000Z
DTEND:20250821T150000Z
LOCATION:Campusbad (Thomas-Fincke-Straße 19\, 24943 Flensburg)
SUMMARY:Flossenschwimmen\, Do 16:00 - 17:00 Unr\, Bahn 5 im flachen Bereich
URL:https://www.uc-baltic.de/veranstaltungen/kalender/ereignis/1607-flossen
 schwimmen-do-16-00-17-00-unr-bahn-5-im-flachen-bereich
END:VEVENT
END:VCALENDAR
