BEGIN:VCALENDAR
VERSION:2.0
PRODID:-//https://www.uc-baltic.de///NONSGML kigkonsult.se iCalcreator 2.10.15//
METHOD:PUBLISH
BEGIN:VEVENT
UID:20260423T000937CEST-1212lodKZa@https://www.uc-baltic.de/
DTSTAMP:20260422T220937Z
DESCRIPTION: https://www.uc-baltic.de/veranstaltungen/kalender/ereignis/112
 7-flossenschwimmen-mo-19-20-uhr
DTSTART:20240812T170000Z
DTEND:20240812T180000Z
LOCATION:Campusbad (Thomas-Fincke-Straße 19\, 24943 Flensburg)
SUMMARY:Flossenschwimmen\, Mo 19 - 20 Uhr
URL:https://www.uc-baltic.de/veranstaltungen/kalender/ereignis/1127-flossen
 schwimmen-mo-19-20-uhr
END:VEVENT
BEGIN:VEVENT
UID:20260423T000937CEST-1216CtbEaB@https://www.uc-baltic.de/
DTSTAMP:20260422T220937Z
DESCRIPTION: https://www.uc-baltic.de/veranstaltungen/kalender/ereignis/113
 2-flossenschwimmen-mo-20-21-uhr
DTSTART:20240812T180000Z
DTEND:20240812T190000Z
LOCATION:Campusbad (Thomas-Fincke-Straße 19\, 24943 Flensburg)
SUMMARY:Flossenschwimmen\, Mo 20 - 21 Uhr
URL:https://www.uc-baltic.de/veranstaltungen/kalender/ereignis/1132-flossen
 schwimmen-mo-20-21-uhr
END:VEVENT
BEGIN:VEVENT
UID:20260423T000937CEST-1219rZZgUm@https://www.uc-baltic.de/
DTSTAMP:20260422T220937Z
DESCRIPTION: https://www.uc-baltic.de/veranstaltungen/kalender/ereignis/113
 7-uw-rugby-mo-20-21-uhr
DTSTART:20240812T180000Z
DTEND:20240812T190000Z
LOCATION:Campusbad (Thomas-Fincke-Straße 19\, 24943 Flensburg)
SUMMARY:UW-Rugby\, Mo 20 - 21 Uhr
URL:https://www.uc-baltic.de/veranstaltungen/kalender/ereignis/1137-uw-rugb
 y-mo-20-21-uhr
END:VEVENT
BEGIN:VEVENT
UID:20260423T000937CEST-1221IGHvGv@https://www.uc-baltic.de/
DTSTAMP:20260422T220937Z
DESCRIPTION: https://www.uc-baltic.de/veranstaltungen/kalender/ereignis/114
 2-flossenschwimmen-di-19-20-uhr-bahn-8-tiefer-bereich
DTSTART:20240813T170000Z
DTEND:20240813T180000Z
LOCATION:Campusbad (Thomas-Fincke-Straße 19\, 24943 Flensburg)
SUMMARY:Flossenschwimmen\, Di 19 - 20 Uhr\, Bahn 8\, tiefer Bereich
URL:https://www.uc-baltic.de/veranstaltungen/kalender/ereignis/1142-flossen
 schwimmen-di-19-20-uhr-bahn-8-tiefer-bereich
END:VEVENT
BEGIN:VEVENT
UID:20260423T000937CEST-1224mpfdzt@https://www.uc-baltic.de/
DTSTAMP:20260422T220937Z
DESCRIPTION: https://www.uc-baltic.de/veranstaltungen/kalender/ereignis/114
 9-flossenschwimmen-do-16-17-uhr-bahn-8-tiefer-bereich
DTSTART:20240815T140000Z
DTEND:20240815T150000Z
LOCATION:Campusbad (Thomas-Fincke-Straße 19\, 24943 Flensburg)
SUMMARY:Flossenschwimmen\, Do 16 - 17 Uhr\, Bahn 8*\, tiefer Bereich
URL:https://www.uc-baltic.de/veranstaltungen/kalender/ereignis/1149-flossen
 schwimmen-do-16-17-uhr-bahn-8-tiefer-bereich
END:VEVENT
END:VCALENDAR
